BEGIN:VCALENDAR
VERSION:2.0
PRODID:-//The Goth Calendar - ECPv6.6.0.1//NONSGML v1.0//EN
CALSCALE:GREGORIAN
METHOD:PUBLISH
X-WR-CALNAME:The Goth Calendar
X-ORIGINAL-URL:https://thegothcalendar.co.uk
X-WR-CALDESC:Events for The Goth Calendar
REFRESH-INTERVAL;VALUE=DURATION:PT1H
X-Robots-Tag:noindex
X-PUBLISHED-TTL:PT1H
BEGIN:VTIMEZONE
TZID:Europe/London
BEGIN:DAYLIGHT
TZOFFSETFROM:+0000
TZOFFSETTO:+0100
TZNAME:BST
DTSTART:20260329T010000
END:DAYLIGHT
BEGIN:STANDARD
TZOFFSETFROM:+0100
TZOFFSETTO:+0000
TZNAME:GMT
DTSTART:20261025T010000
END:STANDARD
END:VTIMEZONE
BEGIN:VEVENT
DTSTART;TZID=Europe/London:20260207T190000
DTEND;TZID=Europe/London:20260207T230000
DTSTAMP:20260424T132729
CREATED:20250925T183324Z
LAST-MODIFIED:20250925T183329Z
UID:14210-1770490800-1770505200@thegothcalendar.co.uk
SUMMARY:Ashbury Heights + Ghostbells + Promenade Cinema
DESCRIPTION:Ashbury Heights are a synthpop duo from Sweden consisting of the dynamic singer/producer/songwriter team of Anders Hagström and Tea F. Thimé. \n\n\n\nOriginally\, the duo consisted of Anders Hagström and Yasmine Uhlin. However\, she announced her surprise departure from the band in Hamburg at the last concert of the Out Of line festival tour 2008. \n\n\n\nAnders and Yazmine met in November 2005 and\, upon discovering that they shared the same musical vision\, decided to form a band. Their collaboration soon came to fruition with the release of a 9 track demo entitled “Angora Overdrive” after a very intensive month in the studio. \n\n\n\nThe second four track demo\, “Parliament of Rooks”\, which was finished in February 2006\, had a more refined sound compared to their first offering. They decided to send it to a few select labels because the reaction they got to the first demo was quite overwhelming. Having sent the demos on Monday\, Ashbury Heights was contacted and contracted by German Out of Line records on Wednesday\, only an hour after the label had received the CD. This probably makes Ashbury Heights one of the fastest signings in history. Several other labels expressed an interest in the band\, but there was no bidding war as Out of Line moved so quickly. \n\n\n\nAlthough having signed the famous German act “And One” at about the same time as Ashbury Heights\, which ate a lot of the labels’ resources\, Out of Line wasted no time. The legendary producer John Fryer was brought on board to produce the promotional single “Cry Havoc” in April 2006\, something quite unheard of in the world of the electronic underground. Very few bands in the synth-genre get to release promo-CDs (if any)\, and certainly no other band in modern synth-history has released a promo-CD produced by a celebrity of the likes of Fryer. \n\n\n\nJohn Fryer would eventually mix their first album “Three cheers for the newlydeads”. Released in october 2007\, the debut album was recieved with overwhelming optimism from press and audience alike proving once and for all that Ashbury Heights truly is a force to be reckoned with. \n\n\n\nIn 2008 Ashbury Heights returned with the “Morningstar in a Black Car” EP\, containing five new songs and four remixes. The EP received good reviews and helped keep up interest for the band. A video was made for the track “Spiders”\, a low budget affair which nevertheless managed to project some of the bands unique flair. \n\n\n\nAshbury Heights\, with brand-new female vocalist Kari Berg\, released their new album ‘Take Cair paramour’ on the 2nd of july 2010. In 2010\, following a long running dispute between Hagström and the record label Out Of Line the band disbanded. This dispute was settled in 2011\, whereupon Hagstöm and Out of Line renewed their collaboration. However\, it took until 2013 for Hagström to find a new singer. The new singer is Tea F. Thimé\, the first female to co-write lyrics for Ashbury Heights. The band are excited to announce their first ever UK Tour which coincides with their 20th Anniversary\, so this eagerly awaited UK tour is set to be very special indeed! \n\n\n\nOfficial Facebook: https://www.facebook.com/ashbury.heightsOfficial Tumblr: http://ashburyheightsofficial.tumblr.com/Official Twitter: https://twitter.com/ashburyheights
URL:https://thegothcalendar.co.uk/event/ashbury-heights-ghostbells-promenade-cinema-4/
LOCATION:Downstairs at The Dome\, London\, 178 Junction Rd\, London\, N19 5QQ
CATEGORIES:Live Bands,London
ATTACH;FMTTYPE=image/jpeg:https://thegothcalendar.co.uk/wp-content/uploads/2025/09/550013808_1397088052215588_2451176265010010205_n.jpg
END:VEVENT
BEGIN:VEVENT
DTSTART;TZID=Europe/London:20260207T190000
DTEND;TZID=Europe/London:20260207T230000
DTSTAMP:20260424T132729
CREATED:20260206T180543Z
LAST-MODIFIED:20260206T180549Z
UID:15265-1770490800-1770505200@thegothcalendar.co.uk
SUMMARY:IST IST + TBC
DESCRIPTION:Manchester’s IST IST return with their fifth studio album ‘DAGGER’ – the follow-up to 2024’s ‘Light A Bigger Fire’ which charted at number 25 in the UK\, breaking them into the Top 40 for the first time.  \n\n\n\nOnce again collaborating with producer Joseph Cross (Hurts\, Lana Del Rey\, Courteeners) the record finds the band returning to their electronic-infused post-punk roots after making a leap into more mainstream sensibilities last time out.  \n\n\n\nOver their decade as a band so far\, IST IST have forged a formidable reputation on word of mouth excitement\, amassing a dedicated cult following in the process. Operating with a fierce DIY work ethic\, the band have an ever-growing back catalogue of successful studio and live releases. Self-releasing their entire repertoire through their own Kind Violence Records label\, the band’s output has been championed by BBC Radio 1 and BBC 6Music\, Radio X\, XS Manchester\, KINK FM in the Netherlands\, The Times and more.  \n\n\n\nRiding the success of the last record into 2025\, IST IST returned to Europe for further dates and subsequently released two live albums ‘ON FIRE’ and ‘Live in Italy’.  \n\n\n\nThe band head back to Europe again in October for six shows in Italy and the Netherlands\, before playing UK for shows in Leeds\, Glasgow\, London and Birmingham to conclude the year. The band have also just announced a hometown show at the 2\,200 capacity Albert Hall in their home city of Manchester\, which will conclude the ‘DAGGER’ tour.
URL:https://thegothcalendar.co.uk/event/ist-ist-tbc/
LOCATION:Headrow House\, Leeds\, Bramleys Yard\, 19 The Headrow\, Leeds\, LS1 6PU
CATEGORIES:Live Bands,Release,Yorkshire and the Humber
ATTACH;FMTTYPE=image/webp:https://thegothcalendar.co.uk/wp-content/uploads/2026/02/IST_IST_Leeds_26_square_600x.webp
END:VEVENT
BEGIN:VEVENT
DTSTART;TZID=Europe/London:20260207T190000
DTEND;TZID=Europe/London:20260208T020000
DTSTAMP:20260424T132729
CREATED:20260105T192945Z
LAST-MODIFIED:20260117T203953Z
UID:14789-1770490800-1770516000@thegothcalendar.co.uk
SUMMARY:Carpe Noctum: The InSect + The Exceptional Mr Hyde + TBC
DESCRIPTION:CARPE NOCTUM is the biggest and longest-running regular goth club in the north of England. It celebrated its 25th anniversary last year\, and was recently an inaugural inductee of the Leeds Goth Hall of Fame. Our resident DJs boast a wealth of experience\, with past residencies in Leeds and Bradford\, including the legendary Flock club night\, under their belts\, alongside guest appearances at clubs and festivals throughout the North\, including repeat appearances at Goth City Festival\, Tomorrow’s Ghosts\, and Infest. Weaving sets from a broad palette of dark alternative genres and subgenres\, fuelling and fuelled by the dancefloor\, their ethos is that the party is all! Expect tracks old and new\, bona-fide classics and hidden gems\, foot-stompers and lightbulb-changers.https://www.facebook.com/Goth.Up.North/ \n\n\n\nTHE LENDING ROOM is Leeds’ finest big small venue! With state-of-the-art lighting\, PA and engineers\, you can get up-close-and-personal with some of the best acts around today\, and still sidle back to the bar in short order. Please note the Lending Room is an upstairs venue with no level access.https://www.facebook.com/libraryvenue/ \n\n\n\n18+ only\, right of admission reserved.Bands from around 19:30 till approximately 22:00\, with the club night following till 2am.Admission is £8 advance/on the door\, or just a fiver after the bands for the club night only. Cash only on the door please!
URL:https://thegothcalendar.co.uk/event/carpe-noctum-the-insect-the-exceptional-mr-hyde-tbc/
LOCATION:Lending Room\, Leeds\, 229 Woodhouse Lane\, Leeds\, LS2 3AP\, United Kingdom
CATEGORIES:Clubs,Live Bands,Yorkshire and the Humber
ATTACH;FMTTYPE=image/jpeg:https://thegothcalendar.co.uk/wp-content/uploads/2026/01/616168667_1670739020913490_5806659235929399197_n.jpg
END:VEVENT
BEGIN:VEVENT
DTSTART;TZID=Europe/London:20260207T210000
DTEND;TZID=Europe/London:20260208T020000
DTSTAMP:20260424T132729
CREATED:20260105T200355Z
LAST-MODIFIED:20260105T200417Z
UID:14806-1770498000-1770516000@thegothcalendar.co.uk
SUMMARY:Sinners
DESCRIPTION:Sinners is a queer sanctuary for the beautifully damned — a place where shadows shimmer\, where every body is free to move without fear\, This is a ceremony for those who live by moonlight and move to the pulse of the underground.  \n\n\n\nOur altar is the dancefloor\, our hymns are drenched in dark synths. From pounding basslines to haunted melodies\, every track is a hymn to the beauty of the shadows. Queer energy thrives here in the flicker of strobes\, where leather and lace meet sweat and smoke\, and every beat is a shared confession. \n\n\n\nSinners presents a night of Dark Synth music featuring Goth\, Darkwave\, Witch House and more. Brought to you By the DirtyFilthySexy Collective featuring creator Greyskull with guest DJs Just Dan\, Tregenza and Victoria Fenbane.  \n\n\n\nCome as you are\, or who you’ve always wanted to be. Dress to summon your dark side. Join the congregation. Dance without restraint.  \n\n\n\nBecause here\, in the dark\, we are all Sinners.
URL:https://thegothcalendar.co.uk/event/sinners/
LOCATION:The Chapel\, 7 Stoney Street\, Nottingham\, NG1 1LG
CATEGORIES:Clubs,East Midlands
ATTACH;FMTTYPE=image/jpeg:https://thegothcalendar.co.uk/wp-content/uploads/2026/01/586398794_1147886747548696_9117746675499696427_n.jpg
END:VEVENT
END:VCALENDAR