BEGIN:VCALENDAR
VERSION:2.0
PRODID:-//The Goth Calendar - ECPv6.6.0.1//NONSGML v1.0//EN
CALSCALE:GREGORIAN
METHOD:PUBLISH
X-ORIGINAL-URL:https://thegothcalendar.co.uk
X-WR-CALDESC:Events for The Goth Calendar
REFRESH-INTERVAL;VALUE=DURATION:PT1H
X-Robots-Tag:noindex
X-PUBLISHED-TTL:PT1H
BEGIN:VTIMEZONE
TZID:Europe/London
BEGIN:DAYLIGHT
TZOFFSETFROM:+0000
TZOFFSETTO:+0100
TZNAME:BST
DTSTART:20260329T010000
END:DAYLIGHT
BEGIN:STANDARD
TZOFFSETFROM:+0100
TZOFFSETTO:+0000
TZNAME:GMT
DTSTART:20261025T010000
END:STANDARD
END:VTIMEZONE
BEGIN:VEVENT
DTSTART;TZID=Europe/London:20260606T190000
DTEND;TZID=Europe/London:20260607T200000
DTSTAMP:20260424T163007
CREATED:20260105T193333Z
LAST-MODIFIED:20260105T193338Z
UID:14793-1780772400-1780862400@thegothcalendar.co.uk
SUMMARY:Carpe Noctum: TBC
DESCRIPTION:CARPE NOCTUM is the biggest and longest-running regular goth club in the north of England. It celebrated its 25th anniversary last year\, and was recently an inaugural inductee of the Leeds Goth Hall of Fame. Our resident DJs boast a wealth of experience\, with past residencies in Leeds and Bradford\, including the legendary Flock club night\, under their belts\, alongside guest appearances at clubs and festivals throughout the North\, including repeat appearances at Goth City Festival\, Tomorrow’s Ghosts\, and Infest. Weaving sets from a broad palette of dark alternative genres and subgenres\, fuelling and fuelled by the dancefloor\, their ethos is that the party is all! Expect tracks old and new\, bona-fide classics and hidden gems\, foot-stompers and lightbulb-changers.https://www.facebook.com/Goth.Up.North/ \n\n\n\nTHE LENDING ROOM is Leeds’ finest big small venue! With state-of-the-art lighting\, PA and engineers\, you can get up-close-and-personal with some of the best acts around today\, and still sidle back to the bar in short order. Please note the Lending Room is an upstairs venue with no level access.https://www.facebook.com/libraryvenue/ \n\n\n\n18+ only\, right of admission reserved.Bands from around 19:30 till approximately 22:00\, with the club night following till 2am.Admission is £8 advance/on the door\, or just a fiver after the bands for the club night only. Cash only on the door please!
URL:https://thegothcalendar.co.uk/event/carpe-noctum-tbc-3/
LOCATION:Lending Room\, Leeds\, 229 Woodhouse Lane\, Leeds\, LS2 3AP\, United Kingdom
CATEGORIES:Clubs,Live Bands,Yorkshire and the Humber
END:VEVENT
BEGIN:VEVENT
DTSTART;TZID=Europe/London:20260606T210000
DTEND;TZID=Europe/London:20260607T020000
DTSTAMP:20260424T163007
CREATED:20260406T172441Z
LAST-MODIFIED:20260406T172446Z
UID:16023-1780779600-1780797600@thegothcalendar.co.uk
SUMMARY:VMPR - The goth strikes back
DESCRIPTION:V.M.P.R. ~ 6.6.26 ~ We bite againGothic beat. Industrial pulse. Neon blood.Let the night swallow you whole.\nDown in Centrala In Birmingham we have the night and room and energy for the best of alternative sounds old and new\nHang out with the bats from 9pm to 2am!The V.M.P.R. Ferals bring the heat\, with fresh sets fromDJ TeacakeDJ NorthStarTickets:£6.50 plus fees (£ 7.15) through outsavvy£6 from face to face sales from TK and Northstar ( invite them to the pub and get money off or find us at the goth meet up\, follow linktree for dates)£9.50 on the door – if any are left! Get down early to avoid disappointment.Linktree – https://linktr.ee/vmpr.brum\nAccessibility note: The event is upstairs. This means access may be restricted for disabled guests. If you’re able to manage stairs with assistance\, we’ll do what we can to help — but please be aware of the limitations of the venue (contact the team through facebook\, follow linktree for details)\nJoin us for VMPR\, an electrifying goth club night that has dirty dancing to pounding music for dark delights Get lost in the hypnotic pulse of industrial\, EBM\, synthpop\, goth and more Whether you’re drawn to the old school sounds of VNV or the modern beats of MATT HART\, we plan to sweat the night away\nDress to impress in your darkest attire—embrace the gothic aesthetic that makes you feel alive in the dark. The venue will be bathed in dim\, moody lighting\, UV lights\, fog machines\, and a projector with homages to the alt aesthetic Whether you’re a seasoned goth or just stepping into the night\, this is the place where you can truly be yourself unapologetically dark and beautiful\nWe are a pro-LGBTQ+ night that welcomes every identity\, every love\, and every shade of bat. The venue will be open through the day as Centrala is a art studio focusing on the voice of alienated groups. It is a warm space and is open to relax at up until the club opens. The feral team is looking into opportunities to give some life to the building while the night is being set up \nlinktr.ee
URL:https://thegothcalendar.co.uk/event/vmpr-the-goth-strikes-back/
LOCATION:Centrala\, Birmingham\, Centrala\, Digbeth\, Birmingham\, B5 5RT
CATEGORIES:Clubs,West Midlands
ATTACH;FMTTYPE=image/png:https://thegothcalendar.co.uk/wp-content/uploads/2026/04/Posters-48.png
END:VEVENT
BEGIN:VEVENT
DTSTART;TZID=Europe/London:20260606T210000
DTEND;TZID=Europe/London:20260607T040000
DTSTAMP:20260424T163007
CREATED:20260331T132653Z
LAST-MODIFIED:20260331T132657Z
UID:15935-1780779600-1780804800@thegothcalendar.co.uk
SUMMARY:Black Catz Goth Nightclub Plymouth
DESCRIPTION:Every First Saturday Of The Month! \nWe pride ourselves on being a friendly & inclusive club night playing the best in Goth; Industrial; Darkwave; EBM; Synthpop; Post-Punk; New Romantic & Alternative 80s. \nEXPECT TO HEAR: \nActors ★ Adam & the Ants ★ Aesthetic Perfection ★ A Flock of Seagulls ★ Alien Sex Fiend ★ Alien Vampires ★ And One ★ Angelspit ★ Apoptygma Berzerk ★ Ashbury Heights ★ The Associates ★ Bauhaus ★ The Birthday Massacre ★ Black Nail Cabaret ★ Blind Delon ★ Blutengel ★ Boy Harsher ★ Clan of Xymox ★ Combichrist ★ Covenant ★ The Cruxshadows ★ Crystal Castles ★ The Cult ★ The Cure ★ The Damned ★ The Danse Society ★ David Bowie ★ Depeche Mode ★ Devo ★ Drab Majesty ★ Duran Duran ★ Fields of the Nephilim ★ Gary Numan ★ Grendel ★ The Human League ★ Icon of Coil ★ Japan ★ John Foxx ★ Joy Division ★ Killing Joke ★ KMFDM ★ Kraftwerk ★ Lacuna Coil ★ Lebanon Hanover ★ London After Midnight ★ Lord Of The Lost ★ Marilyn Manson ★ Massive Ego ★ Mesh ★ Minuit Machine ★ The Mission ★ Molchat Doma ★ New Model Army ★ Nine Inch Nails ★ OMD ★ Placebo ★ Prayers ★ Psychedelic Furs ★ Rammstein ★ Rob Zombie ★ Rotersand ★ She Past Away ★ She Wants Revenge ★ Siouxsie and the Banshees ★ The Sisters of Mercy ★ Soft Cell ★ Specimen ★ Type O Negative ★ Ultravox ★ Vision Video ★ VNV Nation ★ Wolfsheim ★ XrX and many\, many\, many more! \nDJs this month: Stealth (Lawrence) ★ The Dark Angel (Pete) ★ Mad Matt ★ Guest TBA \n★ FREE CLOAKROOM! \n★ FREE SWEETS! \n★ COVERED SMOKING AREA! \n★ LGBTQ+ WELCOMING AND SAFE EVENT! \n★ FRIENDLY STAFF AND DJS! \nDoors open: 9pm – 4am. \nEntry: Just £3.00! Please bring cash to pay at the door (The bar can take cards for drinks).
URL:https://thegothcalendar.co.uk/event/black-catz-goth-nightclub-plymouth-3/
LOCATION:Images Nightclub\, Plymouth\, 89a Cornwall Street\, Plymouth\, Devon\, PL1 1NX\, United Kingdom
CATEGORIES:Clubs,South West
ATTACH;FMTTYPE=image/jpeg:https://thegothcalendar.co.uk/wp-content/uploads/2026/03/blackcatz-Generic-1.jpeg
END:VEVENT
BEGIN:VEVENT
DTSTART;TZID=Europe/London:20260606T223000
DTEND;TZID=Europe/London:20260607T050000
DTSTAMP:20260424T163007
CREATED:20260415T160756Z
LAST-MODIFIED:20260415T160801Z
UID:16097-1780785000-1780808400@thegothcalendar.co.uk
SUMMARY:Dark Scene London
DESCRIPTION:June 6th sees the return of Dark Scene London 🦇 @ RAES (Formally The Omeara)\nAnticipate the finest in both contemporary and timeless music from the dark alternative scene 🖤 \nSo please consider joining us for our Summer Soiree – lots happening and we’ll update as we go. \nDJsDJ Ben (Mondlicht)Claudia Kane (Necropolis/Odessey)Corpus Noctis (Slimelight)Dave Newton (KitCat)Kohl (Cryptid Queers/Sinistry)Ricardo Castro B2B Chanson Noir (Dark Room)Skintight SJ (Shadows of the Cave)Steve Weeks (Slimelight) \nLive band – TBC \n\n 
URL:https://thegothcalendar.co.uk/event/dark-scene-london-3/
CATEGORIES:Clubs,Live Bands,London
ATTACH;FMTTYPE=image/png:https://thegothcalendar.co.uk/wp-content/uploads/2026/04/Screenshot-2026-04-12-at-20.59.55.png
ORGANIZER;CN="Dark Scene London":MAILTO:dave_demix@hotmail.com
END:VEVENT
END:VCALENDAR