BEGIN:VCALENDAR
VERSION:2.0
PRODID:-//The Goth Calendar - ECPv6.6.0.1//NONSGML v1.0//EN
CALSCALE:GREGORIAN
METHOD:PUBLISH
X-ORIGINAL-URL:https://thegothcalendar.co.uk
X-WR-CALDESC:Events for The Goth Calendar
REFRESH-INTERVAL;VALUE=DURATION:PT1H
X-Robots-Tag:noindex
X-PUBLISHED-TTL:PT1H
BEGIN:VTIMEZONE
TZID:Europe/London
BEGIN:DAYLIGHT
TZOFFSETFROM:+0000
TZOFFSETTO:+0100
TZNAME:BST
DTSTART:20260329T010000
END:DAYLIGHT
BEGIN:STANDARD
TZOFFSETFROM:+0100
TZOFFSETTO:+0000
TZNAME:GMT
DTSTART:20261025T010000
END:STANDARD
END:VTIMEZONE
BEGIN:VEVENT
DTSTART;TZID=Europe/London:20260423T150000
DTEND;TZID=Europe/London:20260423T180000
DTSTAMP:20260423T192536
CREATED:20251113T190454Z
LAST-MODIFIED:20251113T190642Z
UID:14484-1776956400-1776967200@thegothcalendar.co.uk
SUMMARY:The Gothic Gathering: Baby Bat Ball
DESCRIPTION:Welcome all Baby Bats! Don your best gowns\, suits\, fangs and wings and join us for this teen friendly ball. There will be a DJ\, live music\, dancing and more. You can also pop downstairs to the market to grab sweet snacks\, top up your outfit with a handmade specialty and get your family portrait commissioned by local artists. No adults allowed!
URL:https://thegothcalendar.co.uk/event/the-gothic-gathering-the-alternative-market-5/
LOCATION:Whitby Pavilion\, West Cliffe\, Whitby\, North Yorkshire\, YO21 3EN\, United Kingdom
CATEGORIES:Clubs,Festivals,Yorkshire and the Humber
ATTACH;FMTTYPE=image/png:https://thegothcalendar.co.uk/wp-content/uploads/2025/11/babybats.png
END:VEVENT
BEGIN:VEVENT
DTSTART;TZID=Europe/London:20260423T190000
DTEND;TZID=Europe/London:20260423T230000
DTSTAMP:20260423T192536
CREATED:20251113T190107Z
LAST-MODIFIED:20251113T190114Z
UID:14478-1776970800-1776985200@thegothcalendar.co.uk
SUMMARY:The Gothic Gathering: The Ink & Shadow Club
DESCRIPTION:Hark back to candle lit rooms of art and poetry that Stoker\, Byron and Shelley would have frequented in this gentle evening of poetry\, music\, literature sharing and an art exhibition. Delight in the works of local and international artists over a tipple as we welcome in the weekend with some delectible dark culture.  
URL:https://thegothcalendar.co.uk/event/the-gothic-gathering-the-ink-shadow-club/
LOCATION:Whitby Pavilion\, West Cliffe\, Whitby\, North Yorkshire\, YO21 3EN\, United Kingdom
CATEGORIES:Festivals,Yorkshire and the Humber
ATTACH;FMTTYPE=image/png:https://thegothcalendar.co.uk/wp-content/uploads/2025/11/inkshadows.png
END:VEVENT
BEGIN:VEVENT
DTSTART;TZID=Europe/London:20260423T190000
DTEND;TZID=Europe/London:20260424T000000
DTSTAMP:20260423T192536
CREATED:20260207T142919Z
LAST-MODIFIED:20260207T142927Z
UID:15359-1776970800-1776988800@thegothcalendar.co.uk
SUMMARY:Resurrection: The Hell 'N Back Club @ April 2026's The Gothic Gathering in Whitby.
DESCRIPTION:Resurrection’s The Hell ‘N Back Club returns to Whitby Next April\, as part of The Gothic Gathering at Whitby Weekend. We’ll be at a NEW Venue for us\, but one that over the years has hosted many events over Goth weekend\, Whitby Rifle Club. From 8pm – Midnight. Just £5 entry. Playing a Mixture of Goth\, Post-Punk\, Darkwave & a bit of EBM\, from the 80’s\, 90’s 00’s\, 10’s & 20’s. This is not an 80’s goth night\, nor is it a Rock & Metal night. We play a wide selection of Goth\, Post Punk & Darkwave from around the world and from throughout the decades. \n\n\n\nEvent Details\n\n\n\nOver 18’s OnlyDoors Open at 8:00PMFrom Thu 23 Apr 2026\, 8:00PM to Fri 24 Apr 2026\, 12:00AM \n\n\n\nLocation\n\n\n\nWhitby Rifle Club\,\, North Yorkshire\,\, YO21 3EW
URL:https://thegothcalendar.co.uk/event/resurrection-the-hell-n-back-club-april-2026s-the-gothic-gathering-in-whitby/
LOCATION:The Rifle Club\, Whitby\, Sports Ground\, W Cliff Ave\, Crescent Ave\, Whitby\, YO21 3EW
CATEGORIES:Clubs,Festivals,Yorkshire and the Humber
ATTACH;FMTTYPE=image/png:https://thegothcalendar.co.uk/wp-content/uploads/2026/02/67246-17646117177189-m.png
END:VEVENT
BEGIN:VEVENT
DTSTART;TZID=Europe/London:20260424T100000
DTEND;TZID=Europe/London:20260424T170000
DTSTAMP:20260423T192536
CREATED:20251113T192908Z
LAST-MODIFIED:20251113T192914Z
UID:14497-1777024800-1777050000@thegothcalendar.co.uk
SUMMARY:The Gothic Gathering: Literature Alley
DESCRIPTION:Explore the various gothic worlds with the authors themselves. Our alley lined with authors\, booksellers and the best of gothic literature is open for you to puruse\, purchase and maybe even get an autograph!
URL:https://thegothcalendar.co.uk/event/the-gothic-gathering-literature-alley/
LOCATION:Whitby Pavilion\, West Cliffe\, Whitby\, North Yorkshire\, YO21 3EN\, United Kingdom
CATEGORIES:Clubs,Festivals,Yorkshire and the Humber
ATTACH;FMTTYPE=image/png:https://thegothcalendar.co.uk/wp-content/uploads/2025/11/gather.png
END:VEVENT
BEGIN:VEVENT
DTSTART;TZID=Europe/London:20260424T100000
DTEND;TZID=Europe/London:20260424T170000
DTSTAMP:20260423T192536
CREATED:20251113T194113Z
LAST-MODIFIED:20251113T194118Z
UID:14504-1777024800-1777050000@thegothcalendar.co.uk
SUMMARY:The Gothic Gathering: Voices of Darkness
DESCRIPTION:In a series of talks and workshops from academics\, authors\, creators\, celebrities and more\, these Voices of the Darkness will bring the interesting\, the fascinating and the downright morbid to life. 
URL:https://thegothcalendar.co.uk/event/the-gothic-gathering-voices-of-darkness/
LOCATION:Whitby Pavilion\, West Cliffe\, Whitby\, North Yorkshire\, YO21 3EN\, United Kingdom
CATEGORIES:Clubs,Festivals,Yorkshire and the Humber
ATTACH;FMTTYPE=image/png:https://thegothcalendar.co.uk/wp-content/uploads/2025/11/gather.png
END:VEVENT
BEGIN:VEVENT
DTSTART;TZID=Europe/London:20260424T100000
DTEND;TZID=Europe/London:20260426T170000
DTSTAMP:20260423T192536
CREATED:20251113T190332Z
LAST-MODIFIED:20251113T191129Z
UID:14481-1777024800-1777222800@thegothcalendar.co.uk
SUMMARY:The Gothic Gathering: The Alternative Market
DESCRIPTION:Find all your favourite Alternative Traders and discover new ones as you fill your bag with the best gothic trinkets\, art and more.
URL:https://thegothcalendar.co.uk/event/the-gothic-gathering-the-alternative-market-4/
LOCATION:Whitby Pavilion\, West Cliffe\, Whitby\, North Yorkshire\, YO21 3EN\, United Kingdom
CATEGORIES:Festivals,Shopping,Yorkshire and the Humber
ATTACH;FMTTYPE=image/png:https://thegothcalendar.co.uk/wp-content/uploads/2025/11/market.png
END:VEVENT
BEGIN:VEVENT
DTSTART;TZID=Europe/London:20260424T110000
DTEND;TZID=Europe/London:20260424T170000
DTSTAMP:20260423T192536
CREATED:20251113T193055Z
LAST-MODIFIED:20251113T193100Z
UID:14500-1777028400-1777050000@thegothcalendar.co.uk
SUMMARY:The Gothic Gathering: Gothic on Wheels
DESCRIPTION:From four to two\, the gothic is bought to life with a series of gothic cars\, metal headed motorbikes\, dark classics and all that’s inbetween. Marvel at the spectacle and enjoy a photograph with these classics and more. 
URL:https://thegothcalendar.co.uk/event/the-gothic-gathering-gothic-on-wheels/
LOCATION:Whitby Pavilion\, West Cliffe\, Whitby\, North Yorkshire\, YO21 3EN\, United Kingdom
CATEGORIES:Clubs,Festivals,Yorkshire and the Humber
ATTACH;FMTTYPE=image/png:https://thegothcalendar.co.uk/wp-content/uploads/2025/11/wheels.png
END:VEVENT
BEGIN:VEVENT
DTSTART;TZID=Europe/London:20260424T190000
DTEND;TZID=Europe/London:20260424T210000
DTSTAMP:20260423T192536
CREATED:20260307T220403Z
LAST-MODIFIED:20260307T220408Z
UID:15585-1777057200-1777064400@thegothcalendar.co.uk
SUMMARY:machiner + Burn The Valley
DESCRIPTION:machiner return to play live at the wonderful Whitby Brewery in the shadow of the Abbey once more\, this time to headline the night along with our special guests Burn The Valley.
URL:https://thegothcalendar.co.uk/event/machiner-burn-the-valley/
LOCATION:Whitby Abbey\, Abbey Lane\, Whitby\, YO22 4JT\, United Kingdom
CATEGORIES:Festivals,Live Bands,Yorkshire and the Humber
ATTACH;FMTTYPE=image/jpeg:https://thegothcalendar.co.uk/wp-content/uploads/2026/03/622711062_899822952797989_7859501507216861926_n.jpg
END:VEVENT
BEGIN:VEVENT
DTSTART;TZID=Europe/London:20260424T190000
DTEND;TZID=Europe/London:20260424T230000
DTSTAMP:20260423T192536
CREATED:20260417T173056Z
LAST-MODIFIED:20260417T173102Z
UID:16183-1777057200-1777071600@thegothcalendar.co.uk
SUMMARY:Trust Your DJ
DESCRIPTION:A new alternative night from the team behind Whitby’s The 80s Night\, described as a return to the clubbing of the ’90s and ’00s\, before our knees caught up with us. Music genres may include\, but are not limited to\, rock\, goth\, EBM\, punk\, industrial\, and alternative.
URL:https://thegothcalendar.co.uk/event/trust-your-dj/
LOCATION:Whitby Friendship A R C\, New Way Ghaut\, Whitby\, YO22 4DH
CATEGORIES:Clubs,Festivals,Yorkshire and the Humber
ATTACH;FMTTYPE=image/jpeg:https://thegothcalendar.co.uk/wp-content/uploads/2026/04/572857900_122102900475080603_7879000213939032573_n.jpg
END:VEVENT
BEGIN:VEVENT
DTSTART;TZID=Europe/London:20260424T193000
DTEND;TZID=Europe/London:20260424T230000
DTSTAMP:20260423T192536
CREATED:20251113T191404Z
LAST-MODIFIED:20251113T191410Z
UID:14491-1777059000-1777071600@thegothcalendar.co.uk
SUMMARY:The Gothic Gathering: Boo on Byron's Raging Boner
DESCRIPTION:Step back in time to journey through the life of Lord Bryon in this hilarious and insightful draggy TEDTalk about the world’s first modern celebrity. 
URL:https://thegothcalendar.co.uk/event/the-gothic-gathering-boo-on-byrons-raging-boner/
LOCATION:Whitby Pavilion\, West Cliffe\, Whitby\, North Yorkshire\, YO21 3EN\, United Kingdom
CATEGORIES:Clubs,Festivals,Yorkshire and the Humber
ATTACH;FMTTYPE=image/png:https://thegothcalendar.co.uk/wp-content/uploads/2025/11/boo.png
END:VEVENT
BEGIN:VEVENT
DTSTART;TZID=Europe/London:20260424T193000
DTEND;TZID=Europe/London:20260424T230000
DTSTAMP:20260423T192536
CREATED:20251113T191554Z
LAST-MODIFIED:20251113T194552Z
UID:14494-1777059000-1777071600@thegothcalendar.co.uk
SUMMARY:The Gothic Gathering: The Graveyard Social + Luxury Stranger
DESCRIPTION:Join us at the Whitby Pavilion for the Social evening everyone has been asking for. This event will include music\, games\, entertainment and – mainly – an opportunity to socialise with your Whitby Weekend friends over a pint and some food
URL:https://thegothcalendar.co.uk/event/the-gothic-gathering-the-graveyard-social/
LOCATION:Whitby Pavilion\, West Cliffe\, Whitby\, North Yorkshire\, YO21 3EN\, United Kingdom
CATEGORIES:Clubs,Festivals,Live Bands,Yorkshire and the Humber
ATTACH;FMTTYPE=image/png:https://thegothcalendar.co.uk/wp-content/uploads/2025/11/grave.png
END:VEVENT
BEGIN:VEVENT
DTSTART;TZID=Europe/London:20260425T193000
DTEND;TZID=Europe/London:20260426T000000
DTSTAMP:20260423T192536
CREATED:20260207T143134Z
LAST-MODIFIED:20260207T143139Z
UID:15362-1777145400-1777161600@thegothcalendar.co.uk
SUMMARY:Dark Souls
DESCRIPTION:GOTH • PUNK • NEW WAVE • DARK WAVE • EBM \n\n\n\nAn official fundraising event for The Sophie Lancaster Foundation. All profits go to the charity. There will be a raffle with over 30 fantastic prizes donated.Cash only for the raffle tickets which are for sale on the night until 10pm. Winning numbers will be put on screen at the event around 10.20pm. If you leave before the raffle has been drawn\, prizes can be collected but we aren’t able to post any prizes to winners. Any unclaimed prizes will be carried over to the next event. \n\n\n\nIf you intend to come to this event\, please buy your tickets in advance as we can not guarantee any tickets will be available on the night. Our last events sold out before the event\, resulting in us having to turn people away. \n\n\n\nDJ Dark Soul and guest\, VISRA will be bringing you a night of goth\, punk\, new wave\, dark wave and EBM. At Whitby Friendship A R C\, entrance through the red door on Church Street. \n\n\n\nLAST ENTRY with or without a ticket is 10pmNo casual streetwear and no blue denim. If in doubt wear black. Over 18’s Only \n\n\n\nThe venue has plenty of seating but due to this being a popular event it is advised to get there early if you want a seat. \n\n\n\nWe reserve the right to refuse admission. \n\n\n\nDark Souls Club Night is a safe place for all\, discriminating against anyone will result in removal from the event. Be nice\, or go home. \n\n\n\nEvent Details\n\n\n\nDoors Open at 7:30PMFrom Sat 25 Apr 2026\, 7:30PM to Sun 26 Apr 2026\, 12:00AM \n\n\n\nLocation\n\n\n\nWhitby Friendship Rowing Club\, North Yorkshire\,\, YO22 4DE
URL:https://thegothcalendar.co.uk/event/dark-souls/
LOCATION:Whitby Friendship Rowing Club\, Whitby\, 136 Church Street\, Whitby\, YO22 4DE
CATEGORIES:Clubs,Festivals,Yorkshire and the Humber
ATTACH;FMTTYPE=image/webp:https://thegothcalendar.co.uk/wp-content/uploads/2026/02/121348-17696157651611-m.webp
END:VEVENT
BEGIN:VEVENT
DTSTART;TZID=Europe/London:20260425T200000
DTEND;TZID=Europe/London:20260425T230000
DTSTAMP:20260423T192536
CREATED:20251113T190946Z
LAST-MODIFIED:20251218T183625Z
UID:14488-1777147200-1777158000@thegothcalendar.co.uk
SUMMARY:The Gothic Gathering: The Vampire Victorium Masquerade Ball + The Nosferatu
DESCRIPTION:Join us for our annual Vampire Victorium Masquerade Ball for an evening of music\, dancing and more. There will be a photographer to capture the evening\, and prizes for the Best Dressed.
URL:https://thegothcalendar.co.uk/event/the-gothic-gathering-the-vampire-victorium-masquerade-ball/
LOCATION:Whitby Pavilion\, West Cliffe\, Whitby\, North Yorkshire\, YO21 3EN\, United Kingdom
CATEGORIES:Clubs,Festivals,Live Bands,Yorkshire and the Humber
ATTACH;FMTTYPE=image/png:https://thegothcalendar.co.uk/wp-content/uploads/2025/11/maskball.png
END:VEVENT
BEGIN:VEVENT
DTSTART;TZID=Europe/London:20260426T190000
DTEND;TZID=Europe/London:20260426T230000
DTSTAMP:20260423T192536
CREATED:20260417T170129Z
LAST-MODIFIED:20260417T170341Z
UID:16177-1777230000-1777244400@thegothcalendar.co.uk
SUMMARY:The 80s Night
DESCRIPTION:The ongoing successor to Whitby’s legendary Laughtons 80’s Night\, still running after many years\, featuring DJs Kat and Landmine\, now back on a Sunday night.
URL:https://thegothcalendar.co.uk/event/the-80s-night-6/
LOCATION:Whitby Friendship A R C\, New Way Ghaut\, Whitby\, YO22 4DH
CATEGORIES:Clubs,Festivals,Yorkshire and the Humber
ATTACH;FMTTYPE=image/png:https://thegothcalendar.co.uk/wp-content/uploads/2026/04/D.png
END:VEVENT
END:VCALENDAR