BEGIN:VCALENDAR
VERSION:2.0
PRODID:-//The Goth Calendar - ECPv6.6.0.1//NONSGML v1.0//EN
CALSCALE:GREGORIAN
METHOD:PUBLISH
X-ORIGINAL-URL:https://thegothcalendar.co.uk
X-WR-CALDESC:Events for The Goth Calendar
REFRESH-INTERVAL;VALUE=DURATION:PT1H
X-Robots-Tag:noindex
X-PUBLISHED-TTL:PT1H
BEGIN:VTIMEZONE
TZID:Europe/London
BEGIN:DAYLIGHT
TZOFFSETFROM:+0000
TZOFFSETTO:+0100
TZNAME:BST
DTSTART:20260329T010000
END:DAYLIGHT
BEGIN:STANDARD
TZOFFSETFROM:+0100
TZOFFSETTO:+0000
TZNAME:GMT
DTSTART:20261025T010000
END:STANDARD
END:VTIMEZONE
BEGIN:VEVENT
DTSTART;TZID=Europe/London:20260306T183000
DTEND;TZID=Europe/London:20260306T230000
DTSTAMP:20260424T134922
CREATED:20260115T190918Z
LAST-MODIFIED:20260115T190924Z
UID:14853-1772821800-1772838000@thegothcalendar.co.uk
SUMMARY:Untamed Silence + Westenra + Eli & Kelly
DESCRIPTION:Untamed Silence & Westenra bring a bold fusion of heavy rock\, prog and metal with melodic vocals\, energy and atmosphere. Eli & Kelly open \nUntamed Silence & Westenra — Live at Eighteen91 \nPrepare for an atmospheric night of live music as Untamed Silence and Westenra deliver a genre-spanning performance that promises both energy and emotion. Joined by acoustic duo Eli & Kelly opening the night\, the evening begins with intimate harmonies before building into a powerful and immersive live experience. \nUntamed Silence and Westenra bring a distinctive blend of heavy rock infused with hints of prog and metal\, crafting a defined\, unmistakable signature sound. Expect soaring melodic female vocals\, thundering drums that shake the room\, expressive guitar work that shifts from delicate to explosive\, and instrumental passages that pull you deeper into the moment. Ambient synth textures and atmospheric samples add a darker edge\, creating a cinematic\, almost haunting listening experience — perfect for those who like their live music bold\, layered\, and unforgettable. \nDoors open 6:30pm \nFriday 6th March \nTickets £7 \nBar open throughout
URL:https://thegothcalendar.co.uk/event/untamed-silence-westenra-eli-kelly/
LOCATION:Eighteen91\, Whitby\, Eighteen91\, Brunswick St\, Whitby\, YO21 1RB
CATEGORIES:Live Bands,Yorkshire and the Humber
ATTACH;FMTTYPE=image/jpeg:https://thegothcalendar.co.uk/wp-content/uploads/2026/01/1891-March-26-Socials-Ad-WEB.jpg
END:VEVENT
BEGIN:VEVENT
DTSTART;TZID=Europe/London:20260306T190000
DTEND;TZID=Europe/London:20260306T230000
DTSTAMP:20260424T134922
CREATED:20260115T191905Z
LAST-MODIFIED:20260207T140514Z
UID:14881-1772823600-1772838000@thegothcalendar.co.uk
SUMMARY:Inkubus Sukkubus + She Sells Sin
DESCRIPTION:Inkubus Sukkubus is a British pagan goth rock band\, formed in the summer of 1989\, with 27 studio albums – and performances in Mexico\, USA\, Australia\, Russia\, Turkey\, Scandinavia\, UK and most of Europe – under their belts.The subject matter of their music tends to veer towards the dark and supernatural\, exploring witchcraft\, magick\, folklore\, death rites and more.In 2026\, they’re releasing their 28th studio album – entitled ‘Eternal Monsters’ – and will be doing a series of gigs to promote and celebrate 37 years of making witchcraft and wonder!*Early bird tickets available until the end of January\, then price goes up to £14 + BF.
URL:https://thegothcalendar.co.uk/event/inkubus-sukkubus-she-sells-sin/
LOCATION:Dead Wax Digbeth\, Birmingham\, 28 Adderley St\, Birmingham\, B9 4ED
CATEGORIES:Live Bands,North West,West Midlands
ATTACH;FMTTYPE=image/jpeg:https://thegothcalendar.co.uk/wp-content/uploads/2026/01/6963b8729fc7b_event.jpeg
END:VEVENT
BEGIN:VEVENT
DTSTART;TZID=Europe/London:20260306T193000
DTEND;TZID=Europe/London:20260306T230000
DTSTAMP:20260424T134922
CREATED:20260129T115642Z
LAST-MODIFIED:20260129T115711Z
UID:15052-1772825400-1772838000@thegothcalendar.co.uk
SUMMARY:Sierra Veins + TBC
DESCRIPTION:Gotobeat is excited to present SIERRA VEINS live at AATMA in Manchester on Friday\, March 6th! \n\n\n\nWith violence and melancholy\, gentleness and brutality\, SIERRA VEINS mixes moods and styles to create a singular\, overpowering universe inspired by synthwave\, EBM and darkwave. After the success of her first singles Gone and Unbroken (getting millions of streams in no time)\, the French artist got thrown at the forefront of the scene. She is now considered as one of the best international EBM live act always mixing together the sounds and spirits of Electro\, Synthwave and even Metal. \n\n\n\nShe released her first album A Story of Anger in 2023 including key collaborations with Synthwave Godfather Carpenter Brut\, Kings of collabs Health and Uk based trio Gunship. Following up the release she toured extensively\, selling out venues all over Europe and played at prestigious festivals such as Hellfest\, Les Vieilles Charrues and Roadburn. \n\n\n\nSIERRA VEINS will be performing at AATMA in Manchester for an immersive live show that promises to be mind blowing as support of her new album release scheduled for the Autumn of 2025.
URL:https://thegothcalendar.co.uk/event/sierra-veins/
LOCATION:Aatma\, Manchester\, 1st Floor\, 14-16 Faraday St\, Manchester\, M1 1BE
CATEGORIES:Live Bands,North West
ATTACH;FMTTYPE=image/avif:https://thegothcalendar.co.uk/wp-content/uploads/2026/01/0616f3ea-4b08-40f0-a246-05f41c91ebd1.avif
END:VEVENT
END:VCALENDAR