BEGIN:VCALENDAR
VERSION:2.0
PRODID:-//The Goth Calendar - ECPv6.6.0.1//NONSGML v1.0//EN
CALSCALE:GREGORIAN
METHOD:PUBLISH
X-WR-CALNAME:The Goth Calendar
X-ORIGINAL-URL:https://thegothcalendar.co.uk
X-WR-CALDESC:Events for The Goth Calendar
REFRESH-INTERVAL;VALUE=DURATION:PT1H
X-Robots-Tag:noindex
X-PUBLISHED-TTL:PT1H
BEGIN:VTIMEZONE
TZID:Europe/London
BEGIN:DAYLIGHT
TZOFFSETFROM:+0000
TZOFFSETTO:+0100
TZNAME:BST
DTSTART:20260329T010000
END:DAYLIGHT
BEGIN:STANDARD
TZOFFSETFROM:+0100
TZOFFSETTO:+0000
TZNAME:GMT
DTSTART:20261025T010000
END:STANDARD
END:VTIMEZONE
BEGIN:VEVENT
DTSTART;TZID=Europe/London:20260314T160000
DTEND;TZID=Europe/London:20260314T210000
DTSTAMP:20260420T132815
CREATED:20260307T221528Z
LAST-MODIFIED:20260307T221533Z
UID:15590-1773504000-1773522000@thegothcalendar.co.uk
SUMMARY:Darkside + Ghost Dance
DESCRIPTION:Tainted Love presents DARKSIDE : Alternative 80s \n\n\n\nTainted Love presents DARKSIDE – a day/night of 80s alternative \n\n\n\nAfter a sell-out launch at The Key Club in January\, Darkside storms back for another night of alternative 80s action – this time with very special guests\, 80s legends GHOST DANCE\, performing a live club set. \n\n\n\nTaking place in The Key Club\, a basement venue in the bowels of the Merrion Centre\, the perfect location for an authentic 80s alternative party. Relive those heady days\, staggering out of Le Phono on a Saturday afternoon after 4 pints of Stowford Press snakebite\, into a crowd of confused Morrisons shoppers. \n\n\n\nLet DJs Dan Lomax (The Town & Country Club\, The Cockpit & Black Lodge) & Richard Miechje (Salvation) take you on a dark thrill ride through the best of the alternative 80s music-scape\, transporting you back to your favourite decade for a day to remember (whether you were actually there or just wish you had been). \n\n\n\nExpect to hear:The Cure / Bauhaus / Sisters of Mercy / Joy Division / Soft Cell / The Cult / Depeche ModeSiouxsie and the Banshees / The Damned / Killing Joke / The Cramps / The Smiths / Violent Femmes / Nick Cave / The Damned / The Mission / Fields of the Nephilim / New Model Army / Pixies / The Chameleons / Iggy Pop \n\n\n\nSaturday 14 March / 4pm – 9pm \n\n\n\nThe Key Club\, 66 Merrion St\, Leeds LS2 8LW
URL:https://thegothcalendar.co.uk/event/darkside-ghost-dance/
LOCATION:The Key Club\, Leeds\, 66 Merrion Street\, Leeds\, LS2 8LW\, United Kingdom
CATEGORIES:Clubs,Live Bands,Yorkshire and the Humber
ATTACH;FMTTYPE=image/avif:https://thegothcalendar.co.uk/wp-content/uploads/2026/03/W1siZiIsInB1YmxpYy8yMDI2LzEvMjcvMjEvMzMvMTMvNDkwL1JhY2tNdWx0aXBhcnQyMDI2MDEyNy02MS1mams4bnUuanBnIl1d.avif
END:VEVENT
BEGIN:VEVENT
DTSTART;TZID=Europe/London:20260314T190000
DTEND;TZID=Europe/London:20260314T230000
DTSTAMP:20260420T132815
CREATED:20260203T113139Z
LAST-MODIFIED:20260203T113159Z
UID:15241-1773514800-1773529200@thegothcalendar.co.uk
SUMMARY:Black Rain + Social Youth Cult + Mercury Machine
DESCRIPTION:
URL:https://thegothcalendar.co.uk/event/black-rain-social-youth-cult-mercury-machine/
LOCATION:Little Buildings\, Newcastle Upon Tyne\, 3-5 Stepney Bank\, Newcastle upon Tyne\, NE1 2PW
CATEGORIES:Live Bands,North East
ATTACH;FMTTYPE=image/jpeg:https://thegothcalendar.co.uk/wp-content/uploads/2026/02/Screenshot-2026-02-03-113002.jpg
END:VEVENT
BEGIN:VEVENT
DTSTART;TZID=Europe/London:20260314T190000
DTEND;TZID=Europe/London:20260314T230000
DTSTAMP:20260420T132815
CREATED:20260208T165937Z
LAST-MODIFIED:20260208T165944Z
UID:15390-1773514800-1773529200@thegothcalendar.co.uk
SUMMARY:Chaos Bleak + Dale
DESCRIPTION:
URL:https://thegothcalendar.co.uk/event/chaos-bleak-dale/
LOCATION:Twisted Tongue\, Whitehaven\, 28 New Street\, Whitehaven\, CA28 7DY
CATEGORIES:Live Bands,North West
ATTACH;FMTTYPE=image/jpeg:https://thegothcalendar.co.uk/wp-content/uploads/2026/02/631029043_1521002180032476_6110751063219119870_n.jpg
END:VEVENT
BEGIN:VEVENT
DTSTART;TZID=Europe/London:20260314T190000
DTEND;TZID=Europe/London:20260314T230000
DTSTAMP:20260420T132815
CREATED:20260218T220925Z
LAST-MODIFIED:20260218T220931Z
UID:15453-1773514800-1773529200@thegothcalendar.co.uk
SUMMARY:Club FFRUK: Final Thirteen + The Anoraks + Aubrey Heels + Mando
DESCRIPTION:CLUB FFRUK – SATURDAY 14 March 2026\nRooz Studios\, 35 Corsham Street\, London N1 6DRDoors: 7pm | Advance tickets: £10 \nClub FFRUK returns to Rooz Studios with a night of raw\, forward-thinking live music and sound culture. \nExpect a high-energy mix of punk\, post-punk\, alternative electronic and DIY noise\, delivered up close and unapologetically in one of London’s most intimate creative spaces. \nFeaturing:Tara RezSegs (Ruts / Ruts DC)+ Special guests Final Thirteen + The Anoraks + Aubrey Heels + Mando \nClub FFRUK is about community\, experimentation and the thrill of live performance — no rules\, no pretence\, just artists doing what they do best. Whether you’re here for the legacy\, the future\, or the collision of both\, this is a night built for people who still believe in the power of live music. \nVery limited capacity. Advance tickets strongly recommended.
URL:https://thegothcalendar.co.uk/event/club-ffruk-final-thirteen-the-anoraks-aubrey-heels-mando/
LOCATION:Rooz Studios\, London\, 35 Corsham St\,\, London\, N1 6DR
CATEGORIES:Clubs,Live Bands,London
ATTACH;FMTTYPE=image/webp:https://thegothcalendar.co.uk/wp-content/uploads/2026/02/5_3e4fce39-c640-4175-a1b8-1d04d07dae67.webp
ORGANIZER;CN="FFRUK":MAILTO:tararez@icloud.com
END:VEVENT
END:VCALENDAR