BEGIN:VCALENDAR
VERSION:2.0
PRODID:-//The Goth Calendar - ECPv6.6.0.1//NONSGML v1.0//EN
CALSCALE:GREGORIAN
METHOD:PUBLISH
X-ORIGINAL-URL:https://thegothcalendar.co.uk
X-WR-CALDESC:Events for The Goth Calendar
REFRESH-INTERVAL;VALUE=DURATION:PT1H
X-Robots-Tag:noindex
X-PUBLISHED-TTL:PT1H
BEGIN:VTIMEZONE
TZID:Europe/London
BEGIN:DAYLIGHT
TZOFFSETFROM:+0000
TZOFFSETTO:+0100
TZNAME:BST
DTSTART:20260329T010000
END:DAYLIGHT
BEGIN:STANDARD
TZOFFSETFROM:+0100
TZOFFSETTO:+0000
TZNAME:GMT
DTSTART:20261025T010000
END:STANDARD
END:VTIMEZONE
BEGIN:VEVENT
DTSTART;TZID=Europe/London:20260320T013000
DTEND;TZID=Europe/London:20260320T020000
DTSTAMP:20260424T123637
CREATED:20260201T185836Z
LAST-MODIFIED:20260201T185842Z
UID:15135-1773970200-1773972000@thegothcalendar.co.uk
SUMMARY:Dramalove + IAMWARFACE + DJ Vade Retro DJ set
DESCRIPTION:Fresh from thrilling audiences across Europe and New York with their hit singles Estate Gotica (“Gothic Summer”) and Supercar Baby (amassing 150K+ Spotify streams)\, Dramalove return to London to showcase their new EP\, featuring the recent release Kryptonite. \n\n\n\nJoining them on stage is IAMWARFACE\, Brighton’s electro-rock sensation handpicked by Gary Numan\, delivering a truly mesmerizing live performance. \n\n\n\nAfter the show\, keep the night alive with Vade Retro spinning the darkest\, most electrifying rock tunes in London until 2 AM!
URL:https://thegothcalendar.co.uk/event/dramalove-iamwarface-dj-vade-retro-dj-set/
LOCATION:The Black Heart\, London\, 2-3 Greenland Place\, London\, NW1 0AP
CATEGORIES:Clubs,Live Bands,London
ATTACH;FMTTYPE=image/avif:https://thegothcalendar.co.uk/wp-content/uploads/2026/02/W1siZiIsInB1YmxpYy8yMDI2LzEvMjcvMTcvMjIvMzcvMTA0L1JhY2tNdWx0aXBhcnQyMDI2MDEyNy02MS04c2l5eGIuanBlZyJdXQ.avif
END:VEVENT
END:VCALENDAR