BEGIN:VCALENDAR
VERSION:2.0
PRODID:-//The Goth Calendar - ECPv6.6.0.1//NONSGML v1.0//EN
CALSCALE:GREGORIAN
METHOD:PUBLISH
X-ORIGINAL-URL:https://thegothcalendar.co.uk
X-WR-CALDESC:Events for The Goth Calendar
REFRESH-INTERVAL;VALUE=DURATION:PT1H
X-Robots-Tag:noindex
X-PUBLISHED-TTL:PT1H
BEGIN:VTIMEZONE
TZID:Europe/London
BEGIN:DAYLIGHT
TZOFFSETFROM:+0000
TZOFFSETTO:+0100
TZNAME:BST
DTSTART:20260329T010000
END:DAYLIGHT
BEGIN:STANDARD
TZOFFSETFROM:+0100
TZOFFSETTO:+0000
TZNAME:GMT
DTSTART:20261025T010000
END:STANDARD
END:VTIMEZONE
BEGIN:VEVENT
DTSTART;TZID=Europe/London:20260426T190000
DTEND;TZID=Europe/London:20260426T230000
DTSTAMP:20260421T124326
CREATED:20251215T185659Z
LAST-MODIFIED:20260118T201311Z
UID:14696-1777230000-1777244400@thegothcalendar.co.uk
SUMMARY:The Nosferatu + Manuskript + Amnesiak
DESCRIPTION:Stigmata Presents\nThe Nosferatu + Special Guests TBA\nSunday 26 April 2026 \nEarly Bird: £20 until 31/12/25\nAdvance: £20 until 26/4/26 \nWeGotTickets: https://wegottickets.com/event/684570\nFatsoma: https://www.fatsoma.com/e/3xoy6qi9/the-nosferatu-uk-tour-manchester\nSkiddle: https://www.skiddle.com/whats-on/Manchester/Rebellion-Manchester./Stigmata-Presents-Nosferatu/41642796/ \nAge Restrictions: 18+ \nThe Nosferatu are a UK gothic rock band formed from the ashes of the original Rise era Nosferatu formed in 1987\, playing rousing rock anthems\, with thunderous guitars and exquisite symphonic orchestration\, combined with booming baritone vocals. \nSince reforming in 2019 The Nosferatu have played many festivals including Wave Gothic Treffen (DE)\, Castle Party (PL)\, Amphi (DE)\, NCN (DE)\, Stella Nomine (DE)\, Tomorrows Ghost (UK) and Eutanasia (MX) as well as headline shows in Belgium\, Germany\, Greece\, Italy\, Portugal and Spain. \nThe Nosferatu also recently completed a highly successful Latin tour visiting Mexico\, Costa Rica\, Peru\, Chile and Brazil to wildly passionate audiences. \nThe shows in April will be their only UK appearances in 2026. \nWebsite: https://www.thenosferatu.com\nFacebook: https://www.facebook.com/thenosferatuofficial\nInstagram: https://www.instagram.com/thenosferatuofficial \nThe Lexington\,\n96-98 Pentonville Road\,\nLondon N1 9JB\nTel: 020 7837 5371
URL:https://thegothcalendar.co.uk/event/the-nosferatu-manuskript-amnesiak/
LOCATION:The Lexington\, London\, 96-98 Pentonville Road N1 9JB\, London\, N1 9JB
CATEGORIES:Live Bands,London
ATTACH;FMTTYPE=image/jpeg:https://thegothcalendar.co.uk/wp-content/uploads/2025/12/FB-Promo-1-London-1.jpg
END:VEVENT
BEGIN:VEVENT
DTSTART;TZID=Europe/London:20260426T190000
DTEND;TZID=Europe/London:20260426T230000
DTSTAMP:20260421T124326
CREATED:20260129T194257Z
LAST-MODIFIED:20260415T160127Z
UID:15098-1777230000-1777244400@thegothcalendar.co.uk
SUMMARY:Creeper + The Howling
DESCRIPTION:Creeper will tour the UK and Ireland with a special run of intimate shows focused entirely on their ’Sanguivore’ era\, performing songs from volumes I and II in small rooms for the first time.
URL:https://thegothcalendar.co.uk/event/creeper-the-howling-7/
LOCATION:Old Fire Station\, Carlisle\, Peter St\, Carlisle\, CA3 8QP
CATEGORIES:Live Bands,North West
ATTACH;FMTTYPE=image/jpeg:https://thegothcalendar.co.uk/wp-content/uploads/2026/01/creeper-1289184530-300x300-1.jpg
END:VEVENT
END:VCALENDAR