BEGIN:VCALENDAR
VERSION:2.0
PRODID:-//The Goth Calendar - ECPv6.6.0.1//NONSGML v1.0//EN
CALSCALE:GREGORIAN
METHOD:PUBLISH
X-ORIGINAL-URL:https://thegothcalendar.co.uk
X-WR-CALDESC:Events for The Goth Calendar
REFRESH-INTERVAL;VALUE=DURATION:PT1H
X-Robots-Tag:noindex
X-PUBLISHED-TTL:PT1H
BEGIN:VTIMEZONE
TZID:Europe/London
BEGIN:DAYLIGHT
TZOFFSETFROM:+0000
TZOFFSETTO:+0100
TZNAME:BST
DTSTART:20250330T010000
END:DAYLIGHT
BEGIN:STANDARD
TZOFFSETFROM:+0100
TZOFFSETTO:+0000
TZNAME:GMT
DTSTART:20251026T010000
END:STANDARD
END:VTIMEZONE
BEGIN:VEVENT
DTSTART;TZID=Europe/London:20250606T193000
DTEND;TZID=Europe/London:20250607T020000
DTSTAMP:20260420T133143
CREATED:20250605T180052Z
LAST-MODIFIED:20250605T180056Z
UID:13056-1749238200-1749261600@thegothcalendar.co.uk
SUMMARY:The Calling Clubnight! (Goth/EBM/Darkwave/80s)
DESCRIPTION:Hells yes! It’s a late one\, with music running right to the bitter end (which in this case is…2am). We’ve got the full range of musical delights to whet your eardrums\, get your requests in and we’ll even try to accommodate those! It’ll be a night full of trad gothic wonders\, EBM stompy joy\, noize\, darkwave\, and little sprinklings of other delights. \n\n\n\nEntrance is free but any donations are massively welcomed. They’ll be used to cover costs and split across the DJs\, no plan for any profit\, although that is always nice! \n\n\n\nSupport donations are physical-cash-only so do please bring along some actual monies for this! \n\n\n\nDJs:☥ Mjelnoir☥ The Dark Prince☥ Empress of Valusia☥ Sombre Sleep☥ Payne☥ Cassiel
URL:https://thegothcalendar.co.uk/event/the-calling-clubnight-goth-ebm-darkwave-80s-4/
LOCATION:The Blue Moon\, Cambridge\, 2 Norfolk Street\, Cambridge\, CB1 2LF\, United Kingdom
CATEGORIES:Clubs,East of England
ATTACH;FMTTYPE=image/jpeg:https://thegothcalendar.co.uk/wp-content/uploads/2022/12/277759697_491647962461165_5562564220181979956_n.jpg
END:VEVENT
BEGIN:VEVENT
DTSTART;TZID=Europe/London:20250614T190000
DTEND;TZID=Europe/London:20250614T230000
DTSTAMP:20260420T133143
CREATED:20250128T210735Z
LAST-MODIFIED:20250523T165154Z
UID:11535-1749927600-1749942000@thegothcalendar.co.uk
SUMMARY:Gothbox: Bein-E + Attrition + Cyph_on
DESCRIPTION:We’re returning with force to the Castle\, with three bands for another brilliant alternative night. \n\n\n\nThe unspeakable Beinaheleidenschaftsgegenstand bring a dark\, ambient introduction to our night with their surreal and artistic works. \n\n\n\nWe follow that with the more upbeat gothic rhythms of Attrition\, who’s melodic and percussive masterpieces paint stark pictures with dark fixtures. \n\n\n\nWith the energy built up\, we’ve also got our old friends at Cyph_On\, who got their start performing live with us\, with their hard hitting and rage fuelled blend of metal\, industrial and punk\, raising the fundamental problems of the world with their lyrics. \n\n\n\nOnce the bands have been successfully exhausted\, we’ve got 3 brilliant DJs in DJ Ultravixen\, DJ Conal\, and DJ CyberCheetah. Each bringing their own personal twisted styles to the dance floor. Expect harder hitting beats and distortion as the night goes on. \n\n\n\nFinally\, Luton Council moved Luton Pride night to this night\, and we’re absolutely here for it! Whilst we’ve told the DJs to expect a bit more colour on the dance-floor than usual\, our scene has always been accepting of all tolerant people. It’ll be good to share in these celebrations
URL:https://thegothcalendar.co.uk/event/gothbox-tbc-2/
LOCATION:Castle Tavern\, Luton\, 1 Castle Street\, Luton\, LU1 3AA
CATEGORIES:Clubs,East of England,Live Bands
ATTACH;FMTTYPE=image/jpeg:https://thegothcalendar.co.uk/wp-content/uploads/2025/01/494466071_678385498343913_1327392054392816275_n.jpg
END:VEVENT
END:VCALENDAR