BEGIN:VCALENDAR
VERSION:2.0
PRODID:-//The Goth Calendar - ECPv6.6.0.1//NONSGML v1.0//EN
CALSCALE:GREGORIAN
METHOD:PUBLISH
X-WR-CALNAME:The Goth Calendar
X-ORIGINAL-URL:https://thegothcalendar.co.uk
X-WR-CALDESC:Events for The Goth Calendar
REFRESH-INTERVAL;VALUE=DURATION:PT1H
X-Robots-Tag:noindex
X-PUBLISHED-TTL:PT1H
BEGIN:VTIMEZONE
TZID:Europe/London
BEGIN:DAYLIGHT
TZOFFSETFROM:+0000
TZOFFSETTO:+0100
TZNAME:BST
DTSTART:20260329T010000
END:DAYLIGHT
BEGIN:STANDARD
TZOFFSETFROM:+0100
TZOFFSETTO:+0000
TZNAME:GMT
DTSTART:20261025T010000
END:STANDARD
END:VTIMEZONE
BEGIN:VEVENT
DTSTART;TZID=Europe/London:20261003T190000
DTEND;TZID=Europe/London:20261004T020000
DTSTAMP:20260422T021246
CREATED:20260117T203829Z
LAST-MODIFIED:20260117T203834Z
UID:14801-1791054000-1791079200@thegothcalendar.co.uk
SUMMARY:Carpe Noctum: The Sisters Of Murphy
DESCRIPTION:CARPE NOCTUM is the biggest and longest-running regular goth club in the north of England. It celebrated its 25th anniversary last year\, and was recently an inaugural inductee of the Leeds Goth Hall of Fame. Our resident DJs boast a wealth of experience\, with past residencies in Leeds and Bradford\, including the legendary Flock club night\, under their belts\, alongside guest appearances at clubs and festivals throughout the North\, including repeat appearances at Goth City Festival\, Tomorrow’s Ghosts\, and Infest. Weaving sets from a broad palette of dark alternative genres and subgenres\, fuelling and fuelled by the dancefloor\, their ethos is that the party is all! Expect tracks old and new\, bona-fide classics and hidden gems\, foot-stompers and lightbulb-changers.https://www.facebook.com/Goth.Up.North/ \n\n\n\nTHE LENDING ROOM is Leeds’ finest big small venue! With state-of-the-art lighting\, PA and engineers\, you can get up-close-and-personal with some of the best acts around today\, and still sidle back to the bar in short order. Please note the Lending Room is an upstairs venue with no level access.https://www.facebook.com/libraryvenue/ \n\n\n\n18+ only\, right of admission reserved.Bands from around 19:30 till approximately 22:00\, with the club night following till 2am.Admission is £8 advance/on the door\, or just a fiver after the bands for the club night only. Cash only on the door please!
URL:https://thegothcalendar.co.uk/event/carpe-noctum-the-sisters-of-murphy-2/
LOCATION:Lending Room\, Leeds\, 229 Woodhouse Lane\, Leeds\, LS2 3AP\, United Kingdom
CATEGORIES:Clubs,Live Bands,Yorkshire and the Humber
END:VEVENT
BEGIN:VEVENT
DTSTART;TZID=Europe/London:20261017T200000
DTEND;TZID=Europe/London:20261018T010000
DTSTAMP:20260422T021246
CREATED:20260226T190439Z
LAST-MODIFIED:20260226T190443Z
UID:15519-1792267200-1792285200@thegothcalendar.co.uk
SUMMARY:The Hell 'n Back Club
DESCRIPTION:
URL:https://thegothcalendar.co.uk/event/the-hell-n-back-club-9/
LOCATION:The Westover Club\, 3 Westover Rd\, Scarborough\, YO12 5AA\, United Kingdom
CATEGORIES:Clubs,Yorkshire and the Humber
ATTACH;FMTTYPE=image/jpeg:https://thegothcalendar.co.uk/wp-content/uploads/2026/02/hellun.jpg
END:VEVENT
BEGIN:VEVENT
DTSTART;TZID=Europe/London:20261025T190000
DTEND;TZID=Europe/London:20261025T230000
DTSTAMP:20260422T021246
CREATED:20260202T153508Z
LAST-MODIFIED:20260202T153515Z
UID:15233-1792954800-1792969200@thegothcalendar.co.uk
SUMMARY:Cabaret Voltaire + Gazelle Twin
DESCRIPTION:Stephen ‘Mal’ Mallinder and Chris Watson have announced details of their Final UK Tour\, starting on 10 October 2026 at Birmingham Town Hall and finishing at the Sheffield Octagon on 25 October\, with Gazelle Twin confirmed as special guest across all the dates. \n\n\n\nThese dates follow news of this year’s highly anticipated sold-out tour\, which marks 50 years since the live launch of one of Britain’s most influential electronic bands\, Cabaret Voltaire\, at the Sheffield Students Union Refectory on 13 May 1975. \n\n\n\nTalking about the newly announced dates\, Stephen Mallinder\, says: “What a wonderful opportunity to go round the block one more time and share that with one of the most unique and spectacular artists we know. The connective tissue between ourselves\, our history\, and the world Gazelle Twin now conjures up\, will be out there and shared with people. It seems like a special\, magical moment. ”Composer\, producer\, and performance artist Elizabeth Bernholz\, aka Gazelle Twin\, will be special guest across the tour: “Pinch me. Go on. I’m feeling excessively lucky at the prospect of touring with Cabaret Voltaire in 2026. They are electronic music pioneers\, but also the loveliest\, kindest folk in music that I could ever hope to share the stage with. \n\n\n\nIn the current climate of social turmoil and political manipulation\, the prescient work of Cabaret Voltaire continues to be necessary. The sounds\, words\, images and films of the band still resonate loudly\, continuing to challenge the status quo. The events in 2025 and 2026 will curate this essential work and to acknowledge the timeless energy and to mark the continuing significance and power of what Cabaret Voltaire achieved. Original members Chris Watson and Stephen Mallinder are committed to stay true to the enduring vision of Cabaret Voltaire. The performance will cover the arc of their formidable output – from early experiments\, and the first Rough Trade / Factory releases\, through the band’s Doublevision video label and into the work with renowned producers such as Adrian Sherwood and Marshall Jefferson. Stephen Mallinder explains\, “The live set is built from scratch but faithful to the original tracks. Everything has been painstakingly reconstructed with the original technology and processes to build the tracks. But as with all Cabs live shows there is an element of unpredictable\, the new. Chance meets causality.”
URL:https://thegothcalendar.co.uk/event/cabaret-voltaire-gazelle-twin-11/
LOCATION:The Octagon\, Sheffield\, Clarkson Street\, Sheffield\, S102TQ
CATEGORIES:Live Bands,Yorkshire and the Humber
ATTACH;FMTTYPE=image/jpeg:https://thegothcalendar.co.uk/wp-content/uploads/2026/02/cabaret-voltaire_05-30-25_19_6839b1ee4215e.jpg
END:VEVENT
BEGIN:VEVENT
DTSTART;TZID=Europe/London:20261029T200000
DTEND;TZID=Europe/London:20261029T230000
DTSTAMP:20260422T021246
CREATED:20260319T192455Z
LAST-MODIFIED:20260319T192500Z
UID:15793-1793304000-1793314800@thegothcalendar.co.uk
SUMMARY:The Witching Tale + Jan Doyle Band + Greystone Sisters
DESCRIPTION:We’re delighted to present a somewhat mysterious spooky and etherial Halloween show with The Witching Tale who are comprised of Katherine Blake known from Miranda Sex Garden and The Mediaeval Baebes and Michael J York from Current 93 and The Utopia Strong. This fantastic\,mostly electronics driven\, project merges incredible ethereal vocals with atmospheric isoundscapes. Drawing inspiration from folklore\, nature\, and the arcane\, the duo weaves a hauntingly beautiful musical path that blend ancient themes with modern textures\, creating a mesmerizing journey through mystical storytelling and bewitching melodies. \n\n\n\nhttp://linktr.ee/thewitchingtale \n\n\n\nWith support from Jan Doyle Band who\, while known for somewhat wild explosive Goth performances\, have promised to explore the more subtle elements of their work whilst still maintaining the typically glamorous presentation \n\n\n\nLinktr.ee/jandoyleband \n\n\n\nPLUS\, and this is quite a scoop we feel. we finally present the DEBUT live show of sheffield goth duo The Greystone Sisters who achived much notability with the likes of Mick Mercer with their only released works The Veil and Paranoia\, remarking on how the former offered a “queasy romance” (lyrically) and also “largely lives on vocals and bass alone”.Paranoia he said has sharp delivery an impressive sour charm. \n\n\n\nGreystonesisters.bandcamp.comTickets: £14.00 (+ Booking fee) \n\n\n\nEvent Details \n\n\n\n\nDoors: 8.00pm\n\n\n\nPerformance: 8.30pm\n\n\n\nLocation: The Samuel Worth Chapel\, Sheffield\, S11 8NT\n\n\n\nAccessibility: The Samuel Worth Chapel is fully accessible.\n\n\n\nFacilities: The Samuel Worth Chapel has a fully licensed bar selling local beers\, wine and spirits.\n\n\n\nTickets: All tickets are sold online via Ticketsource. No tickets are available on the door.\n\n\n\nPlease note\, bags will be checked upon entry.\n\n\n\n\nT&Cs \n\n\n\n\nTickets for this event are non-refundable. However\, if for any reason the event is cancelled by us\, we will refund your ticket.\n\n\n\nEmail marketingandevents@gencem.org with any questions about this event.\n\n\n\n\nEvent Details\n\n\n\nDoors Open at 8:00PMStarts at 8:30PM \n\n\n\nLocation\n\n\n\nThe Samuel Worth Chapel\, Sheffield\, S11 8NT
URL:https://thegothcalendar.co.uk/event/the-witching-tale-jan-doyle-band-greystone-sisters/
LOCATION:Samuel Worth Chapel\, Sheffield\, Sheffield General Cemetery\, Cemetery Rd\, Sharrow\, Sheffield\, S11 8FT
CATEGORIES:Live Bands,Yorkshire and the Humber
ATTACH;FMTTYPE=image/webp:https://thegothcalendar.co.uk/wp-content/uploads/2026/03/bafkreie464kxh5rtluravrioateno2lhwqfljyfkpifs7axh3kj4yt37ca.webp
END:VEVENT
BEGIN:VEVENT
DTSTART;TZID=Europe/London:20261030T190000
DTEND;TZID=Europe/London:20261030T230000
DTSTAMP:20260422T021246
CREATED:20260128T162707Z
LAST-MODIFIED:20260128T162713Z
UID:15011-1793386800-1793401200@thegothcalendar.co.uk
SUMMARY:Tomorrow's Ghosts: The Mission + Lol Tolhurst + Evi Vine
DESCRIPTION:Friday \n\n\n\nTHE MISSION \n\n\n\nPart I – ‘God’s Own Medicine’ \n\n\n\nPart II – ‘86 -26’ : 40th Anniversary Set \n\n\n\n+ Very Special Guests : Lol Tolhurst Plays The Songs of The Cure \n\n\n\n+ Evi Vine \n\n\n\n+ Your Club Night Hosts – Carpe Noctum  \n\n\n\nSaturday\n\n\n\nTomorrow’s Ghosts Festival : Cygnea Cantio \n\n\n\nTHE MISSION \n\n\n\nPart III – ‘86 -26’ : 40th Anniversary Set \n\n\n\n+ Very Special Guests : The March Violets \n\n\n\n+ Tristwch Y Fenywod  \n\n\n\n+ Your Club Night Hosts – Carpe Noctum 
URL:https://thegothcalendar.co.uk/event/tomorrows-ghosts-the-mission-lol-tolhurst-evi-vine/
LOCATION:Whitby Pavilion\, West Cliffe\, Whitby\, North Yorkshire\, YO21 3EN\, United Kingdom
CATEGORIES:Clubs,Festivals,Live Bands,Yorkshire and the Humber
ATTACH;FMTTYPE=image/jpeg:https://thegothcalendar.co.uk/wp-content/uploads/2026/01/tomorrows_ghosts_festival-7619032435.jpg
END:VEVENT
BEGIN:VEVENT
DTSTART;TZID=Europe/London:20261031T190000
DTEND;TZID=Europe/London:20261101T010000
DTSTAMP:20260422T021246
CREATED:20260128T162823Z
LAST-MODIFIED:20260128T162829Z
UID:15014-1793473200-1793494800@thegothcalendar.co.uk
SUMMARY:Tomorrow's Ghosts: The Mission + The March Violets + Tristwch Y Fenywod
DESCRIPTION:Friday \n\n\n\nTHE MISSION \n\n\n\nPart I – ‘God’s Own Medicine’ \n\n\n\nPart II – ‘86 -26’ : 40th Anniversary Set \n\n\n\n+ Very Special Guests : Lol Tolhurst Plays The Songs of The Cure \n\n\n\n+ Evi Vine \n\n\n\n+ Your Club Night Hosts – Carpe Noctum  \n\n\n\nSaturday\n\n\n\nTomorrow’s Ghosts Festival : Cygnea Cantio \n\n\n\nTHE MISSION \n\n\n\nPart III – ‘86 -26’ : 40th Anniversary Set \n\n\n\n+ Very Special Guests : The March Violets \n\n\n\n+ Tristwch Y Fenywod  \n\n\n\n+ Your Club Night Hosts – Carpe Noctum 
URL:https://thegothcalendar.co.uk/event/tomorrows-ghosts-the-mission-the-march-violets-tristwch-y-fenywod/
LOCATION:Whitby Pavilion\, West Cliffe\, Whitby\, North Yorkshire\, YO21 3EN\, United Kingdom
CATEGORIES:Clubs,Festivals,Live Bands,Yorkshire and the Humber
ATTACH;FMTTYPE=image/jpeg:https://thegothcalendar.co.uk/wp-content/uploads/2026/01/tomorrows_ghosts_festival-7619032435.jpg
END:VEVENT
END:VCALENDAR