BEGIN:VCALENDAR
VERSION:2.0
PRODID:-//The Goth Calendar - ECPv6.6.0.1//NONSGML v1.0//EN
CALSCALE:GREGORIAN
METHOD:PUBLISH
X-ORIGINAL-URL:https://thegothcalendar.co.uk
X-WR-CALDESC:Events for The Goth Calendar
REFRESH-INTERVAL;VALUE=DURATION:PT1H
X-Robots-Tag:noindex
X-PUBLISHED-TTL:PT1H
BEGIN:VTIMEZONE
TZID:Europe/London
BEGIN:DAYLIGHT
TZOFFSETFROM:+0000
TZOFFSETTO:+0100
TZNAME:BST
DTSTART:20260329T010000
END:DAYLIGHT
BEGIN:STANDARD
TZOFFSETFROM:+0100
TZOFFSETTO:+0000
TZNAME:GMT
DTSTART:20261025T010000
END:STANDARD
END:VTIMEZONE
BEGIN:VEVENT
DTSTART;TZID=Europe/London:20260903T190000
DTEND;TZID=Europe/London:20260903T230000
DTSTAMP:20260421T175953
CREATED:20260409T190959Z
LAST-MODIFIED:20260409T191003Z
UID:16085-1788462000-1788476400@thegothcalendar.co.uk
SUMMARY:Denuit + TBC
DESCRIPTION:Fans of Twin Tribes or Boy Harsher? Meet DENUIT\, a darkwave/synthpop duo with a gothic techno and industrial edge. With Lis’s hypnotic\, siren- like voice and Ivi’s unique synths\, their live shows captivate audiences across Europe\, Mexico\, and South America. Mystical yet intense\, their sound blends dark atmospheres\, pounding kicks\, and vibrating basslines for an experience that enchants… and hits hard. DENUIT represents the new generation of electro- goth artists shaking clubs and festivals worldwid
URL:https://thegothcalendar.co.uk/event/denuit-tbc/
LOCATION:The Victoria\, Dalston\, London\, 451 Queensbridge Road\, Dalston\, London\, E8 3AS\, United Kingdom
CATEGORIES:Live Bands,London
ATTACH;FMTTYPE=image/jpeg:https://thegothcalendar.co.uk/wp-content/uploads/2026/04/3b10a740-03bc-449e-8751-6771eaa3dd5b.jpg
END:VEVENT
BEGIN:VEVENT
DTSTART;TZID=Europe/London:20260904T190000
DTEND;TZID=Europe/London:20260904T230000
DTSTAMP:20260421T175953
CREATED:20260409T183056Z
LAST-MODIFIED:20260409T183100Z
UID:16069-1788548400-1788562800@thegothcalendar.co.uk
SUMMARY:past self + TBC
DESCRIPTION:Night Terrors present past self from Las Vegas\, Nevada. Taking aesthetic cues from visual kei and pulling heavily from bands like The Cure\, Molchat Doma\, and Slowdive\, they blend Korean and English lyrics
URL:https://thegothcalendar.co.uk/event/past-self-tbc/
LOCATION:The Shacklewell Arms\, London\, 71 Shacklewell Lane\, London\, E8 2EB
CATEGORIES:Live Bands,London
ATTACH;FMTTYPE=image/jpeg:https://thegothcalendar.co.uk/wp-content/uploads/2026/04/e6ff9e78-744a-44ea-9c6f-dacb48d2a327-scaled.jpg
END:VEVENT
BEGIN:VEVENT
DTSTART;TZID=Europe/London:20260927T190000
DTEND;TZID=Europe/London:20260927T230000
DTSTAMP:20260421T175953
CREATED:20260126T133050Z
LAST-MODIFIED:20260126T133055Z
UID:14937-1790535600-1790550000@thegothcalendar.co.uk
SUMMARY:She Past Away + Actors
DESCRIPTION:Night Terrors will be hosting a double-bill of She Past Away + ACTORS at Dalston’s EartH Hall this September. \n\n\n\nSHE PAST AWAY is a dark wave/post-punk duo\, consisting of Volkan Caner (vocal\, guitars and songwriting) and Doruk Ozturkcan (drums\, synths and production). Experimenting old/new aesthetic of synth music into their core guitar stuff\, She Past Away forged a sound\, an attitude\, and a sensibility\, conveyed through a minimalist poetry sung in Turkish\, which sweeps the audience through a dense\, continual epic trip in both their recordings and live performances. \n\n\n\nACTORS is a Canadian post-punk/darkwave band from Vancouver\, formed in 2012 by Jason Corbett (vocals\, guitar)\, known for their cinematic\, synth-driven sound that blends classic 80s new wave with modern flair\, alongside Shannon Hemmett (keyboards\, vocals)\, Kendall Wooding (bass\, vocals)\, and Adam Fink (drums). They gained prominence with albums like It Will Come To You (2018) and Acts of Worship (2021)\, blending moody atmospheres\, driving rhythms\, and anthemic hooks\, establishing themselves as key figures in the contemporary darkwave scene.
URL:https://thegothcalendar.co.uk/event/she-past-away-actors/
LOCATION:EartH (Evolutionary Arts Hackney)\, London\, 11-17 Stoke Newington Rd\, London\, N16 8BH
CATEGORIES:Live Bands,London
ATTACH;FMTTYPE=image/avif:https://thegothcalendar.co.uk/wp-content/uploads/2026/01/d0670c81-5f90-44bd-8c97-75b1acfe8395.avif
END:VEVENT
BEGIN:VEVENT
DTSTART;TZID=Europe/London:20261017T190000
DTEND;TZID=Europe/London:20261017T230000
DTSTAMP:20260421T175953
CREATED:20260402T190603Z
LAST-MODIFIED:20260402T190624Z
UID:15991-1792263600-1792278000@thegothcalendar.co.uk
SUMMARY:Deviant + TBC
DESCRIPTION:Info TBC
URL:https://thegothcalendar.co.uk/event/deviant-tbc/
CATEGORIES:Live Bands,London
END:VEVENT
BEGIN:VEVENT
DTSTART;TZID=Europe/London:20261022T190000
DTEND;TZID=Europe/London:20261022T230000
DTSTAMP:20260421T175953
CREATED:20260202T152954Z
LAST-MODIFIED:20260202T153000Z
UID:15230-1792695600-1792710000@thegothcalendar.co.uk
SUMMARY:Cabaret Voltaire + Gazelle Twin
DESCRIPTION:Stephen ‘Mal’ Mallinder and Chris Watson have announced details of their Final UK Tour\, starting on 10 October 2026 at Birmingham Town Hall and finishing at the Sheffield Octagon on 25 October\, with Gazelle Twin confirmed as special guest across all the dates. \n\n\n\nThese dates follow news of this year’s highly anticipated sold-out tour\, which marks 50 years since the live launch of one of Britain’s most influential electronic bands\, Cabaret Voltaire\, at the Sheffield Students Union Refectory on 13 May 1975. \n\n\n\nTalking about the newly announced dates\, Stephen Mallinder\, says: “What a wonderful opportunity to go round the block one more time and share that with one of the most unique and spectacular artists we know. The connective tissue between ourselves\, our history\, and the world Gazelle Twin now conjures up\, will be out there and shared with people. It seems like a special\, magical moment. ”Composer\, producer\, and performance artist Elizabeth Bernholz\, aka Gazelle Twin\, will be special guest across the tour: “Pinch me. Go on. I’m feeling excessively lucky at the prospect of touring with Cabaret Voltaire in 2026. They are electronic music pioneers\, but also the loveliest\, kindest folk in music that I could ever hope to share the stage with. \n\n\n\nIn the current climate of social turmoil and political manipulation\, the prescient work of Cabaret Voltaire continues to be necessary. The sounds\, words\, images and films of the band still resonate loudly\, continuing to challenge the status quo. The events in 2025 and 2026 will curate this essential work and to acknowledge the timeless energy and to mark the continuing significance and power of what Cabaret Voltaire achieved. Original members Chris Watson and Stephen Mallinder are committed to stay true to the enduring vision of Cabaret Voltaire. The performance will cover the arc of their formidable output – from early experiments\, and the first Rough Trade / Factory releases\, through the band’s Doublevision video label and into the work with renowned producers such as Adrian Sherwood and Marshall Jefferson. Stephen Mallinder explains\, “The live set is built from scratch but faithful to the original tracks. Everything has been painstakingly reconstructed with the original technology and processes to build the tracks. But as with all Cabs live shows there is an element of unpredictable\, the new. Chance meets causality.”
URL:https://thegothcalendar.co.uk/event/cabaret-voltaire-gazelle-twin-10/
LOCATION:Roundhouse\, London\, Chalk Farm Road\, London\, NW1 8EH
CATEGORIES:Live Bands,London
ATTACH;FMTTYPE=image/jpeg:https://thegothcalendar.co.uk/wp-content/uploads/2026/02/cabaret-voltaire_05-30-25_19_6839b1ee4215e.jpg
END:VEVENT
BEGIN:VEVENT
DTSTART;TZID=Europe/London:20261104T190000
DTEND;TZID=Europe/London:20261104T230000
DTSTAMP:20260421T175953
CREATED:20260205T200309Z
LAST-MODIFIED:20260205T200315Z
UID:15259-1793818800-1793833200@thegothcalendar.co.uk
SUMMARY:The Mission: God's Own Medicine in full plus B-sides + TBC
DESCRIPTION:The Mission bring their God’s Own Medicine 40th Anniversary shows to the O2 Forum Kentish Town in London\, promising an evocative evening as the band revisits the seminal album in full alongside a selection of fan favorites\, wrapped in cinematic production and evocative lighting that highlight the record’s brooding melodies and soaring choruses. The show will balance reverence and reinvention\, with the band’s distinctive guitars and commanding vocals delivering both faithful renditions and subtly refreshed arrangements that resonate for longtime devotees and newcomers alike. Set in the atmospheric confines of the O2 Forum Kentish Town\, the concert will feel immediate and communal\, offering rare up-close moments and singalong highs that underscore the album’s enduring influence. Demand is expected to be strong\, so securing tickets early is advised for anyone wanting to be part of this special celebration of one of the band’s defining works.
URL:https://thegothcalendar.co.uk/event/the-mission-gods-own-medicine-in-full-plus-b-sides-tbc-2/
LOCATION:O2 Forum Kentish Town\, London\, 9-17 Highgate Rd\, London\, NW5 1JY
CATEGORIES:Live Bands,London
ATTACH;FMTTYPE=image/webp:https://thegothcalendar.co.uk/wp-content/uploads/2026/02/9620148.webp
END:VEVENT
BEGIN:VEVENT
DTSTART;TZID=Europe/London:20261105T190000
DTEND;TZID=Europe/London:20261105T230000
DTSTAMP:20260421T175953
CREATED:20260205T200559Z
LAST-MODIFIED:20260205T200629Z
UID:15261-1793905200-1793919600@thegothcalendar.co.uk
SUMMARY:The Mission + TBC
DESCRIPTION:Best of the following albums: First Chapter\, Children\, Grains of Sand\, Neverland\, Aura\, Brightest Light \n\n\n\nThe Mission bring their God’s Own Medicine 40th Anniversary shows to the O2 Forum Kentish Town in London\, promising an evocative evening as the band revisits the seminal album in full alongside a selection of fan favorites\, wrapped in cinematic production and evocative lighting that highlight the record’s brooding melodies and soaring choruses. The show will balance reverence and reinvention\, with the band’s distinctive guitars and commanding vocals delivering both faithful renditions and subtly refreshed arrangements that resonate for longtime devotees and newcomers alike. Set in the atmospheric confines of the O2 Forum Kentish Town\, the concert will feel immediate and communal\, offering rare up-close moments and singalong highs that underscore the album’s enduring influence. Demand is expected to be strong\, so securing tickets early is advised for anyone wanting to be part of this special celebration of one of the band’s defining works.
URL:https://thegothcalendar.co.uk/event/the-mission-tbc/
LOCATION:O2 Forum Kentish Town\, London\, 9-17 Highgate Rd\, London\, NW5 1JY
CATEGORIES:Live Bands,London
ATTACH;FMTTYPE=image/webp:https://thegothcalendar.co.uk/wp-content/uploads/2026/02/9620148.webp
END:VEVENT
BEGIN:VEVENT
DTSTART;TZID=Europe/London:20261106T190000
DTEND;TZID=Europe/London:20261106T230000
DTSTAMP:20260421T175953
CREATED:20260205T194033Z
LAST-MODIFIED:20260205T194040Z
UID:15256-1793991600-1794006000@thegothcalendar.co.uk
SUMMARY:The Mission: God's Own Medicine in full plus B-sides + TBC
DESCRIPTION:On 2026-11-06 The Mission bring their God’s Own Medicine 40th Anniversary shows to the O2 Forum Kentish Town in London\, promising an evocative evening as the band revisits the seminal album in full alongside a selection of fan favorites\, wrapped in cinematic production and evocative lighting that highlight the record’s brooding melodies and soaring choruses. The show will balance reverence and reinvention\, with the band’s distinctive guitars and commanding vocals delivering both faithful renditions and subtly refreshed arrangements that resonate for longtime devotees and newcomers alike. Set in the atmospheric confines of the O2 Forum Kentish Town\, the concert will feel immediate and communal\, offering rare up-close moments and singalong highs that underscore the album’s enduring influence. Demand is expected to be strong\, so securing tickets early is advised for anyone wanting to be part of this special celebration of one of the band’s defining works.
URL:https://thegothcalendar.co.uk/event/the-mission-gods-own-medicine-in-full-plus-b-sides-tbc/
LOCATION:O2 Forum Kentish Town\, London\, 9-17 Highgate Rd\, London\, NW5 1JY
CATEGORIES:Live Bands,London
ATTACH;FMTTYPE=image/webp:https://thegothcalendar.co.uk/wp-content/uploads/2026/02/9620148.webp
END:VEVENT
BEGIN:VEVENT
DTSTART;TZID=Europe/London:20261107T190000
DTEND;TZID=Europe/London:20261107T230000
DTSTAMP:20260421T175953
CREATED:20260205T200830Z
LAST-MODIFIED:20260205T200835Z
UID:15263-1794078000-1794092400@thegothcalendar.co.uk
SUMMARY:The Mission + TBC
DESCRIPTION:Playing Kith and Kin \n\n\n\nThe Mission bring their God’s Own Medicine 40th Anniversary shows to the O2 Forum Kentish Town in London\, promising an evocative evening as the band revisits the seminal album in full alongside a selection of fan favorites\, wrapped in cinematic production and evocative lighting that highlight the record’s brooding melodies and soaring choruses. The show will balance reverence and reinvention\, with the band’s distinctive guitars and commanding vocals delivering both faithful renditions and subtly refreshed arrangements that resonate for longtime devotees and newcomers alike. Set in the atmospheric confines of the O2 Forum Kentish Town\, the concert will feel immediate and communal\, offering rare up-close moments and singalong highs that underscore the album’s enduring influence. Demand is expected to be strong\, so securing tickets early is advised for anyone wanting to be part of this special celebration of one of the band’s defining works.
URL:https://thegothcalendar.co.uk/event/the-mission-tbc-2/
LOCATION:O2 Forum Kentish Town\, London\, 9-17 Highgate Rd\, London\, NW5 1JY
CATEGORIES:Live Bands,London
ATTACH;FMTTYPE=image/webp:https://thegothcalendar.co.uk/wp-content/uploads/2026/02/9620148.webp
END:VEVENT
BEGIN:VEVENT
DTSTART;TZID=Europe/London:20261205T190000
DTEND;TZID=Europe/London:20261205T230000
DTSTAMP:20260421T175953
CREATED:20260319T202116Z
LAST-MODIFIED:20260319T202121Z
UID:15815-1796497200-1796511600@thegothcalendar.co.uk
SUMMARY:Auger + TBC
DESCRIPTION:Auger are back in the UK in December 2026 to celebrate the release of their new album The Old Arcade. After 8 shows in Germany in September 2026\, the tour will be hopping over the channel for the finalé in redacted\, London and Bristol. And it gets better\, they’ll be bringing some very special guests over from Germany with them… so secure your tickets whilst you can\, you won’t want to miss it!
URL:https://thegothcalendar.co.uk/event/auger-tbc-2/
LOCATION:The Engine Rooms\, London\, Unit 30\, Bow Triangle Business Centre\, Elenor St\, Bow\, London\, E3 4UR
CATEGORIES:Live Bands,London
ATTACH;FMTTYPE=image/jpeg:https://thegothcalendar.co.uk/wp-content/uploads/2026/03/654254843_1498382222297370_1903942653715378684_n.jpg
END:VEVENT
BEGIN:VEVENT
DTSTART;TZID=Europe/London:20261206T190000
DTEND;TZID=Europe/London:20261206T230000
DTSTAMP:20260421T175953
CREATED:20260205T173750Z
LAST-MODIFIED:20260205T173755Z
UID:15254-1796583600-1796598000@thegothcalendar.co.uk
SUMMARY:Covenant Legacy UK Tour + TBC
DESCRIPTION:COVENANT 1986-2026We live in confusing times\, in the dusk of mankind. We want to tell stories and sing about how that makes us feel. In a world that has stopped making sense\, we need to learn how to see in the dark. Covenant is a triumphant embrace of the strength and resilience of the soul. It’s the dystopian\, unforgiving song of our dreams born in the shadow of the cold war. Our music is a monument of our failures and as beautiful as a collapsed star. \n\n\n\n26t of April 1986\, on the very eve of the Chernobyl disaster\, Covenant was founded after having their senses blinded by Front 242 in Malmö at the legendary venue Stadt Hamburg. \n\n\n\nThe aggressive beats and uncompromising attitude mixed with the pop flavour of their new song Don’t Crash made a deep impression and only 5 months later Clas\, Eskil and Joakim had their first show\, with own songs\, and the band have since performed in 42 countries over 6 continents and released over 120 songs. In 2026 the band would like to invite you and together reflect on the times and celebrate 40 years of “pop with an edge”! In a string of extended concerts\, spanning two and a half hours\, the band will perform songs from every album with setlists voted by the fans and you. We are honoured and grateful for every moment we shared\, thank you for the music. \n\n\n\nFounding members Joakim Montelius and Eskil Simonsson are currently working on a new album. Like a probing Nautilus\, changing with change\, moving within motion and steering straight through black waters\, we will never rest\, we will never abandon. \n\n\n\nWelcome to the void. \n\n\n\nDiscography1994 – Dreams of a Cryotank1996 – Sequencer1998 – Europa2000 – United States of Mind2000 – Synergy (Live in Europe)2002 – Northern Light2006 – Skyshaper2007 – In Transit (Live Documentary)2011 – Modern Ruin2013 – Leaving Babylon2016 – The Blinding Dark2019 – Fieldworks: Exkursion \n\n\n\nThe band is currently working on their 10th studio album.
URL:https://thegothcalendar.co.uk/event/covenant-legacy-uk-tour-tbc-4/
LOCATION:The Garage\, London\, 20-22 Highbury Corner Highbury\, London\, N5 1RD\, United Kingdom
CATEGORIES:Live Bands,London
ATTACH;FMTTYPE=image/jpeg:https://thegothcalendar.co.uk/wp-content/uploads/2026/02/EWOJCS3.jpg
END:VEVENT
END:VCALENDAR