BEGIN:VCALENDAR
VERSION:2.0
PRODID:-//The Goth Calendar - ECPv6.6.0.1//NONSGML v1.0//EN
CALSCALE:GREGORIAN
METHOD:PUBLISH
X-ORIGINAL-URL:https://thegothcalendar.co.uk
X-WR-CALDESC:Events for The Goth Calendar
REFRESH-INTERVAL;VALUE=DURATION:PT1H
X-Robots-Tag:noindex
X-PUBLISHED-TTL:PT1H
BEGIN:VTIMEZONE
TZID:Europe/London
BEGIN:DAYLIGHT
TZOFFSETFROM:+0000
TZOFFSETTO:+0100
TZNAME:BST
DTSTART:20260329T010000
END:DAYLIGHT
BEGIN:STANDARD
TZOFFSETFROM:+0100
TZOFFSETTO:+0000
TZNAME:GMT
DTSTART:20261025T010000
END:STANDARD
END:VTIMEZONE
BEGIN:VEVENT
DTSTART;TZID=Europe/London:20260403T190000
DTEND;TZID=Europe/London:20260403T233000
DTSTAMP:20260425T133619
CREATED:20260218T220331Z
LAST-MODIFIED:20260218T220336Z
UID:15466-1775242800-1775259000@thegothcalendar.co.uk
SUMMARY:Post play presents.... SIOUXSIE SUICIDE + Tantrum Zentrum
DESCRIPTION:Post plague present\n\nSIOUXSIE SUICIDE\n\nTantrum Zentrum\n\nPlus SPIRIT club night with DJs
URL:https://thegothcalendar.co.uk/event/post-play-presents-siouxsie-suicide-tantrum-zentrum/
LOCATION:Poco Loco\, Chatham\, 58 High Street\, Chatham\, Me4 4ds
CATEGORIES:Live Bands,South East
ATTACH;FMTTYPE=image/jpeg:https://thegothcalendar.co.uk/wp-content/uploads/2026/02/FB_IMG_1769531181239.jpg
ORGANIZER;CN="Post Plague":MAILTO:deadbloodcells@protonmail.co.uk
END:VEVENT
END:VCALENDAR