BEGIN:VCALENDAR
VERSION:2.0
PRODID:-//The Goth Calendar - ECPv6.6.0.1//NONSGML v1.0//EN
CALSCALE:GREGORIAN
METHOD:PUBLISH
X-WR-CALNAME:The Goth Calendar
X-ORIGINAL-URL:https://thegothcalendar.co.uk
X-WR-CALDESC:Events for The Goth Calendar
REFRESH-INTERVAL;VALUE=DURATION:PT1H
X-Robots-Tag:noindex
X-PUBLISHED-TTL:PT1H
BEGIN:VTIMEZONE
TZID:Europe/London
BEGIN:DAYLIGHT
TZOFFSETFROM:+0000
TZOFFSETTO:+0100
TZNAME:BST
DTSTART:20260329T010000
END:DAYLIGHT
BEGIN:STANDARD
TZOFFSETFROM:+0100
TZOFFSETTO:+0000
TZNAME:GMT
DTSTART:20261025T010000
END:STANDARD
END:VTIMEZONE
BEGIN:VEVENT
DTSTART;TZID=Europe/London:20260618T190000
DTEND;TZID=Europe/London:20260618T230000
DTSTAMP:20260423T123548
CREATED:20260201T194015Z
LAST-MODIFIED:20260201T194021Z
UID:15162-1781809200-1781823600@thegothcalendar.co.uk
SUMMARY:The March Violets
DESCRIPTION:The March Violets are a rejuvenated 1980s British gothic rock band from Leeds\, featuring original members Tom Ashton and Rosie Garland\, with bassist Mat Thorpe. Following a 2023 reunion and signing with Metropolis Records\, they released the 2024 album Crocodile Promises\, toured the USA\, and played major UK festivals like Rebellion and Bearded Theory.
URL:https://thegothcalendar.co.uk/event/the-march-violets-7/
LOCATION:The Bullingdon\, Oxford\, 162 Cowley Road\, Oxford\, OX4 1UE
CATEGORIES:Live Bands,South East
ATTACH;FMTTYPE=image/jpeg:https://thegothcalendar.co.uk/wp-content/uploads/2026/02/624063068_1570694275063285_6580739081317045406_n.jpg
END:VEVENT
END:VCALENDAR