BEGIN:VCALENDAR
VERSION:2.0
PRODID:-//The Goth Calendar - ECPv6.6.0.1//NONSGML v1.0//EN
CALSCALE:GREGORIAN
METHOD:PUBLISH
X-ORIGINAL-URL:https://thegothcalendar.co.uk
X-WR-CALDESC:Events for The Goth Calendar
REFRESH-INTERVAL;VALUE=DURATION:PT1H
X-Robots-Tag:noindex
X-PUBLISHED-TTL:PT1H
BEGIN:VTIMEZONE
TZID:Europe/London
BEGIN:DAYLIGHT
TZOFFSETFROM:+0000
TZOFFSETTO:+0100
TZNAME:BST
DTSTART:20260329T010000
END:DAYLIGHT
BEGIN:STANDARD
TZOFFSETFROM:+0100
TZOFFSETTO:+0000
TZNAME:GMT
DTSTART:20261025T010000
END:STANDARD
END:VTIMEZONE
BEGIN:VEVENT
DTSTART;TZID=Europe/London:20260904T190000
DTEND;TZID=Europe/London:20260904T200000
DTSTAMP:20260423T191450
CREATED:20260319T204229Z
LAST-MODIFIED:20260319T204233Z
UID:15826-1788548400-1788552000@thegothcalendar.co.uk
SUMMARY:Lesbian Bed Death + Grooving In Green
DESCRIPTION:Lesbian Bed Death bring their special potion of Gothic Punk and Metal to Brighton along with very special guests Grooving in Green! \n\n\n\nLesbian Bed Death & Grooving in Green \n\n\n\nLesbian Bed Death are unleashing their special potion of Gothic Punk and Metal across the UK to promote their new album and movie\, Satan’s Cellar. With their love of Horror\, theatre\, the occult and the macabre\, expect Lesbian Bed Death to bring an unmissable show featuring a mix of new material and fan favourites to Brighton Electric.For this exclusive Brighton show\, they are joined by groove goth specialists Grooving in Green who will be treating you to a set of high-octane gothic rock bangers old and new.This event is ticketed only due to venue policy. No sales will be done at the door. Apologies for any inconvenience.18+ only\, right of admission reserved.Bands from around 19:30 till approximately 22:00\, with the club night following till 2am.Admission is £8 advance/on the door\, or just a fiver after the bands for the club night only. Cash only on the door please!
URL:https://thegothcalendar.co.uk/event/lesbian-bed-death-grooving-in-green/
LOCATION:Brighton Electric Studios\, 22 Lewes Road\, Brighton\, BN2 4A
CATEGORIES:Live Bands,South East
ATTACH;FMTTYPE=image/jpeg:https://thegothcalendar.co.uk/wp-content/uploads/2026/03/584433629_10164207264309769_6009623731382309625_n.jpg
END:VEVENT
END:VCALENDAR