BEGIN:VCALENDAR
VERSION:2.0
PRODID:-//The Goth Calendar - ECPv6.6.0.1//NONSGML v1.0//EN
CALSCALE:GREGORIAN
METHOD:PUBLISH
X-WR-CALNAME:The Goth Calendar
X-ORIGINAL-URL:https://thegothcalendar.co.uk
X-WR-CALDESC:Events for The Goth Calendar
REFRESH-INTERVAL;VALUE=DURATION:PT1H
X-Robots-Tag:noindex
X-PUBLISHED-TTL:PT1H
BEGIN:VTIMEZONE
TZID:Europe/London
BEGIN:DAYLIGHT
TZOFFSETFROM:+0000
TZOFFSETTO:+0100
TZNAME:BST
DTSTART:20260329T010000
END:DAYLIGHT
BEGIN:STANDARD
TZOFFSETFROM:+0100
TZOFFSETTO:+0000
TZNAME:GMT
DTSTART:20261025T010000
END:STANDARD
END:VTIMEZONE
BEGIN:VEVENT
DTSTART;TZID=Europe/London:20260329T180000
DTEND;TZID=Europe/London:20260329T220000
DTSTAMP:20260424T095659
CREATED:20260129T110839Z
LAST-MODIFIED:20260129T110844Z
UID:15026-1774807200-1774821600@thegothcalendar.co.uk
SUMMARY:The Twilight Sad: Signing Event
DESCRIPTION:Beloved Scottish band\, The Twilight Sad\, make their long-awaited return with ‘It’s The Long Goodbye’\, their sixth studio album. We’re thrilled to be welcoming them to our shopfloor for an intimate stripped-back show in celebration. \n\n\n\nPick up an album with entry to the event… \n\n\n\nThe release date for physical copies of this album is 27th March. Albums will be available to collect on the door at the event. \n\n\n\nFor any stock queries\, please also contact orders@resident-music.com \n\n\n\nPriority entry will go to those who purchase the album with instore access. If we have space for additional entries on the day\, we will be able to let extra people in. \n\n\n\nUnder 14’s can come for free\, while spaces last – contact us on orders@resident-music.com with the subject “Under 14s Ticket” for more information. \n\n\n\nThis is a standing event. For seating / accessibility requests\, please contact orders@resident-music.com. Please note we have a limited number of chairs available.
URL:https://thegothcalendar.co.uk/event/the-twilight-sad-signing-event-2/
LOCATION:Resident Music\, Brighton\, 28 Kensington Gardens\, Brighton\, BN1 4AL
CATEGORIES:Live Bands,South East
ATTACH;FMTTYPE=image/avif:https://thegothcalendar.co.uk/wp-content/uploads/2026/01/12f76d80-3b32-4488-87f2-8189ee0648a2.avif
END:VEVENT
END:VCALENDAR