BEGIN:VCALENDAR
VERSION:2.0
PRODID:-//The Goth Calendar - ECPv6.6.0.1//NONSGML v1.0//EN
CALSCALE:GREGORIAN
METHOD:PUBLISH
X-ORIGINAL-URL:https://thegothcalendar.co.uk
X-WR-CALDESC:Events for The Goth Calendar
REFRESH-INTERVAL;VALUE=DURATION:PT1H
X-Robots-Tag:noindex
X-PUBLISHED-TTL:PT1H
BEGIN:VTIMEZONE
TZID:Europe/London
BEGIN:DAYLIGHT
TZOFFSETFROM:+0000
TZOFFSETTO:+0100
TZNAME:BST
DTSTART:20260329T010000
END:DAYLIGHT
BEGIN:STANDARD
TZOFFSETFROM:+0100
TZOFFSETTO:+0000
TZNAME:GMT
DTSTART:20261025T010000
END:STANDARD
END:VTIMEZONE
BEGIN:VEVENT
DTSTART;TZID=Europe/London:20260820T180000
DTEND;TZID=Europe/London:20260821T030000
DTSTAMP:20260423T064039
CREATED:20260108T213049Z
LAST-MODIFIED:20260108T213352Z
UID:14843-1787248800-1787281200@thegothcalendar.co.uk
SUMMARY:Twisted Firestarter #6: Clan Of Xymox + Massive Ego + Dead Lights + Moth Slut
DESCRIPTION:Stigmata Promotions: Gigs\, Clubs\, Tours Present Twisted Firestarter 6. The Official Infest Festival Warm Up! \n\n\n\n\nCLAN OF XYMOX – (Exclusive UK Show!)\n\n\n\nMASSIVE EGO \n\n\n\nDEAD LIGHTS\n\n\n\nMOTH SLUT\n\n\n\nSTRANGE FUTURES\n\n\n\nIAMIMPERFECT\n\n\n\n\nTwisted Firestarter has become the eagerly anticipated warm up party for the Infest Festival and always delivers a fantastic party atmosphere to get the festival off to a cracking start. This year we are proud to bring as an incredible headliner the pioneering stalwarts of the electro-goth scene CLAN OF XYMOX! This will be an exclusive UK show for them. \n\n\n\nMASSIVE EGO are finally back and this show is a long awaited return to the UK scene! DEAD LIGHTS are fast becoming serious contenders for the electro-glam-ebm crown\, miss at your peril\, MOTH SLUT bring their androgynous Virgin Prunes meets early Christian Death meets Bauhaus vibe to the event and always impress with their energetic performances\, indeed ones to watch! Bristol’s finest STRANGE FUTURES are another act with an ever so impressive vocalist\, hard to imagine such a strong voice coming from such a small frame! And the ever modestly named IAMIMPERFECT are in fact the perfect opener to set things off to a great start\, it won’t be long before they are rising up the bills to headline status! \n\n\n\nAlso includes the legendary Afterparty with Club Stigmata \n\n\n\nWith DJs Frank Drake & Mark Walker! \n\n\n\nPlaying the best in EBM/industrial/Synthpop/post punk/goth/80s \n\n\n\nTickets for the club only are also available for only £10! \n\n\n\nStigmata Presents The Official Infest Warm Up Party on Thursday 20th August 2026
URL:https://thegothcalendar.co.uk/event/twisted-firestarter-6-clan-of-xymox-massive-ego-dead-lights-moth-slut/
LOCATION:Rebellion\, Manchester\, 2B Whitworth Street West\, Manchester\, M1 5WZ
CATEGORIES:Clubs,Festivals,Live Bands,North West
ATTACH;FMTTYPE=image/jpeg:https://thegothcalendar.co.uk/wp-content/uploads/2026/01/612500066_1524265486132836_5920928343014389460_n.jpg
END:VEVENT
BEGIN:VEVENT
DTSTART;TZID=Europe/London:20260903T190000
DTEND;TZID=Europe/London:20260903T230000
DTSTAMP:20260423T064039
CREATED:20260409T184050Z
LAST-MODIFIED:20260409T184054Z
UID:16072-1788462000-1788476400@thegothcalendar.co.uk
SUMMARY:Massive Ego + Dead Lights + Larva + The Silent Era
DESCRIPTION:Stigmata Presents The Symphony Of Flies UK TourMASSIVE EGO UK – 30th Anniversary Dates!DEAD LIGHTS (UK)LARVA (Spain) THE SILENT ERA (UK) \n\n\n\nMASSIVE EGO Biography: Formed in 1996\, UK synth-pop/electronic darkwave act Massive Ego emerged from the short-lived New Romantic revival known as Romo\, attracting early critical attention with a favourable live review in Melody Maker. Across a three-decade career marked by frequent line-up changes\, including members such as Dan Black (The Servant/Planet Funk) and Dean Bright (Dead Or Alive)\, the band has maintained a strong presence on the European alternative circuit\, appearing at festivals including Wave-Gotik-Treﬀen\, M’era Luna\, Amphi\, Infest\, and Whitby Goth Weekend\, alongside extensive touring throughout the UK and mainland Europe. Diﬃcult to categorise stylistically\, Massive Ego combine confrontational lyricism with a striking visual identity\, epitomised by vocalist Marc Massive’s performative aesthetic\, earning them adevoted underground following. Releases such as Noise In The Machine (2014) and the albums Beautiful Suicide and Church for the Malfunctioned signalled a shift toward a darker and more abrasive sonic palette. In 2024\, guitarist Porl Young (Rosetta Stone) joined the long-standing core line-up.Throughout 2025\, Massive Ego unveiled four singles from their forthcoming new album. Their current single features guest vocals from Boy George alongside a remix from current dark scene favourites\, Actors\, signalling an especially significant period for the band as they navigate 2026\, reaﬃrming their enduring capacity for reinvention within the margins of electronic music culture. \n\n\n\nWith the announcement of their first-ever headline UK tour\, and new album\, Symphony Of Flies\, out on 8th May through Out Of Line Music\, it marks a high-profile 30th-anniversary year. \n\n\n\nDEAD LIGHTS Short Biography:Glamgoth? Dark Electro? Industrial Cyberfunk? Disguised as dark\, sleazy synthpop\, DEAD LIGHTS create their own personal blend of monumental synth bass lines and gritty sounds\, elaborate vocal arrangements and brutal\, dance-orientated beats. Founded in 2020\, the international duo Saul (UK) and Richard (NL) have defined their own style\, combining elements of glam\, goth and industrial with a modern\, personal twist. Their energetic live performance has brought them to many international venues and festivals. DEAD LIGHTS: progressive EBM for the 21st century. \n\n\n\nTHE SILENT ERA Short Biography: Distorted\, cinematic and intensely emotionalalt-rock from London. Touching on goth\, industrial\, shoegaze and post-punk.”….a remarkable band making extraordinary music.” – The Big Takeover“This album is extraordinary and defies easycategorization…”
URL:https://thegothcalendar.co.uk/event/massive-ego-dead-lights-larva-the-silent-era/
LOCATION:The Old Coldstore\, Queensbridge Rd\, Nottingham\, NG2 1NB\, United Kingdom
CATEGORIES:East Midlands,Live Bands
ATTACH;FMTTYPE=image/jpeg:https://thegothcalendar.co.uk/wp-content/uploads/2026/04/658939392_18351157849236866_2408808641638287077_n.jpg
END:VEVENT
BEGIN:VEVENT
DTSTART;TZID=Europe/London:20260904T190000
DTEND;TZID=Europe/London:20260904T230000
DTSTAMP:20260423T064039
CREATED:20260409T184200Z
LAST-MODIFIED:20260409T184204Z
UID:16075-1788548400-1788562800@thegothcalendar.co.uk
SUMMARY:Massive Ego + Dead Lights + Larva + The Silent Era
DESCRIPTION:Stigmata Presents The Symphony Of Flies UK TourMASSIVE EGO UK – 30th Anniversary Dates!DEAD LIGHTS (UK)LARVA (Spain) THE SILENT ERA (UK) \n\n\n\nMASSIVE EGO Biography: Formed in 1996\, UK synth-pop/electronic darkwave act Massive Ego emerged from the short-lived New Romantic revival known as Romo\, attracting early critical attention with a favourable live review in Melody Maker. Across a three-decade career marked by frequent line-up changes\, including members such as Dan Black (The Servant/Planet Funk) and Dean Bright (Dead Or Alive)\, the band has maintained a strong presence on the European alternative circuit\, appearing at festivals including Wave-Gotik-Treﬀen\, M’era Luna\, Amphi\, Infest\, and Whitby Goth Weekend\, alongside extensive touring throughout the UK and mainland Europe. Diﬃcult to categorise stylistically\, Massive Ego combine confrontational lyricism with a striking visual identity\, epitomised by vocalist Marc Massive’s performative aesthetic\, earning them adevoted underground following. Releases such as Noise In The Machine (2014) and the albums Beautiful Suicide and Church for the Malfunctioned signalled a shift toward a darker and more abrasive sonic palette. In 2024\, guitarist Porl Young (Rosetta Stone) joined the long-standing core line-up.Throughout 2025\, Massive Ego unveiled four singles from their forthcoming new album. Their current single features guest vocals from Boy George alongside a remix from current dark scene favourites\, Actors\, signalling an especially significant period for the band as they navigate 2026\, reaﬃrming their enduring capacity for reinvention within the margins of electronic music culture. \n\n\n\nWith the announcement of their first-ever headline UK tour\, and new album\, Symphony Of Flies\, out on 8th May through Out Of Line Music\, it marks a high-profile 30th-anniversary year. \n\n\n\nDEAD LIGHTS Short Biography:Glamgoth? Dark Electro? Industrial Cyberfunk? Disguised as dark\, sleazy synthpop\, DEAD LIGHTS create their own personal blend of monumental synth bass lines and gritty sounds\, elaborate vocal arrangements and brutal\, dance-orientated beats. Founded in 2020\, the international duo Saul (UK) and Richard (NL) have defined their own style\, combining elements of glam\, goth and industrial with a modern\, personal twist. Their energetic live performance has brought them to many international venues and festivals. DEAD LIGHTS: progressive EBM for the 21st century. \n\n\n\nTHE SILENT ERA Short Biography: Distorted\, cinematic and intensely emotionalalt-rock from London. Touching on goth\, industrial\, shoegaze and post-punk.”….a remarkable band making extraordinary music.” – The Big Takeover“This album is extraordinary and defies easycategorization…”
URL:https://thegothcalendar.co.uk/event/massive-ego-dead-lights-larva-the-silent-era-2/
LOCATION:Ivory Blacks\, Glasgow\, 56 Oswald Street\, Glasgow\, United Kingdom
CATEGORIES:Live Bands,Scotland
ATTACH;FMTTYPE=image/jpeg:https://thegothcalendar.co.uk/wp-content/uploads/2026/04/658939392_18351157849236866_2408808641638287077_n.jpg
END:VEVENT
BEGIN:VEVENT
DTSTART;TZID=Europe/London:20260905T180000
DTEND;TZID=Europe/London:20260905T230000
DTSTAMP:20260423T064039
CREATED:20260409T184257Z
LAST-MODIFIED:20260409T184316Z
UID:16077-1788631200-1788649200@thegothcalendar.co.uk
SUMMARY:Massive Ego + Dead Lights + Larva + The Silent Era
DESCRIPTION:Stigmata Presents The Symphony Of Flies UK TourMASSIVE EGO UK – 30th Anniversary Dates!DEAD LIGHTS (UK)LARVA (Spain) THE SILENT ERA (UK) \n\n\n\nMASSIVE EGO Biography: Formed in 1996\, UK synth-pop/electronic darkwave act Massive Ego emerged from the short-lived New Romantic revival known as Romo\, attracting early critical attention with a favourable live review in Melody Maker. Across a three-decade career marked by frequent line-up changes\, including members such as Dan Black (The Servant/Planet Funk) and Dean Bright (Dead Or Alive)\, the band has maintained a strong presence on the European alternative circuit\, appearing at festivals including Wave-Gotik-Treﬀen\, M’era Luna\, Amphi\, Infest\, and Whitby Goth Weekend\, alongside extensive touring throughout the UK and mainland Europe. Diﬃcult to categorise stylistically\, Massive Ego combine confrontational lyricism with a striking visual identity\, epitomised by vocalist Marc Massive’s performative aesthetic\, earning them adevoted underground following. Releases such as Noise In The Machine (2014) and the albums Beautiful Suicide and Church for the Malfunctioned signalled a shift toward a darker and more abrasive sonic palette. In 2024\, guitarist Porl Young (Rosetta Stone) joined the long-standing core line-up.Throughout 2025\, Massive Ego unveiled four singles from their forthcoming new album. Their current single features guest vocals from Boy George alongside a remix from current dark scene favourites\, Actors\, signalling an especially significant period for the band as they navigate 2026\, reaﬃrming their enduring capacity for reinvention within the margins of electronic music culture. \n\n\n\nWith the announcement of their first-ever headline UK tour\, and new album\, Symphony Of Flies\, out on 8th May through Out Of Line Music\, it marks a high-profile 30th-anniversary year. \n\n\n\nDEAD LIGHTS Short Biography:Glamgoth? Dark Electro? Industrial Cyberfunk? Disguised as dark\, sleazy synthpop\, DEAD LIGHTS create their own personal blend of monumental synth bass lines and gritty sounds\, elaborate vocal arrangements and brutal\, dance-orientated beats. Founded in 2020\, the international duo Saul (UK) and Richard (NL) have defined their own style\, combining elements of glam\, goth and industrial with a modern\, personal twist. Their energetic live performance has brought them to many international venues and festivals. DEAD LIGHTS: progressive EBM for the 21st century. \n\n\n\nTHE SILENT ERA Short Biography: Distorted\, cinematic and intensely emotionalalt-rock from London. Touching on goth\, industrial\, shoegaze and post-punk.”….a remarkable band making extraordinary music.” – The Big Takeover“This album is extraordinary and defies easycategorization…”
URL:https://thegothcalendar.co.uk/event/massive-ego-dead-lights-larva-the-silent-era-3/
LOCATION:Corporation\, Sheffield\, Milton Street\, Sheffield\, S1 4JU
CATEGORIES:Live Bands,Yorkshire and the Humber
ATTACH;FMTTYPE=image/jpeg:https://thegothcalendar.co.uk/wp-content/uploads/2026/04/658939392_18351157849236866_2408808641638287077_n.jpg
END:VEVENT
BEGIN:VEVENT
DTSTART;TZID=Europe/London:20260906T190000
DTEND;TZID=Europe/London:20260906T230000
DTSTAMP:20260423T064039
CREATED:20260409T184437Z
LAST-MODIFIED:20260409T184441Z
UID:16079-1788721200-1788735600@thegothcalendar.co.uk
SUMMARY:Massive Ego + Dead Lights + Larva + The Silent Era
DESCRIPTION:Stigmata Presents The Symphony Of Flies UK TourMASSIVE EGO UK – 30th Anniversary Dates!DEAD LIGHTS (UK)LARVA (Spain) THE SILENT ERA (UK) \n\n\n\nMASSIVE EGO Biography: Formed in 1996\, UK synth-pop/electronic darkwave act Massive Ego emerged from the short-lived New Romantic revival known as Romo\, attracting early critical attention with a favourable live review in Melody Maker. Across a three-decade career marked by frequent line-up changes\, including members such as Dan Black (The Servant/Planet Funk) and Dean Bright (Dead Or Alive)\, the band has maintained a strong presence on the European alternative circuit\, appearing at festivals including Wave-Gotik-Treﬀen\, M’era Luna\, Amphi\, Infest\, and Whitby Goth Weekend\, alongside extensive touring throughout the UK and mainland Europe. Diﬃcult to categorise stylistically\, Massive Ego combine confrontational lyricism with a striking visual identity\, epitomised by vocalist Marc Massive’s performative aesthetic\, earning them adevoted underground following. Releases such as Noise In The Machine (2014) and the albums Beautiful Suicide and Church for the Malfunctioned signalled a shift toward a darker and more abrasive sonic palette. In 2024\, guitarist Porl Young (Rosetta Stone) joined the long-standing core line-up.Throughout 2025\, Massive Ego unveiled four singles from their forthcoming new album. Their current single features guest vocals from Boy George alongside a remix from current dark scene favourites\, Actors\, signalling an especially significant period for the band as they navigate 2026\, reaﬃrming their enduring capacity for reinvention within the margins of electronic music culture. \n\n\n\nWith the announcement of their first-ever headline UK tour\, and new album\, Symphony Of Flies\, out on 8th May through Out Of Line Music\, it marks a high-profile 30th-anniversary year. \n\n\n\nDEAD LIGHTS Short Biography:Glamgoth? Dark Electro? Industrial Cyberfunk? Disguised as dark\, sleazy synthpop\, DEAD LIGHTS create their own personal blend of monumental synth bass lines and gritty sounds\, elaborate vocal arrangements and brutal\, dance-orientated beats. Founded in 2020\, the international duo Saul (UK) and Richard (NL) have defined their own style\, combining elements of glam\, goth and industrial with a modern\, personal twist. Their energetic live performance has brought them to many international venues and festivals. DEAD LIGHTS: progressive EBM for the 21st century. \n\n\n\nTHE SILENT ERA Short Biography: Distorted\, cinematic and intensely emotionalalt-rock from London. Touching on goth\, industrial\, shoegaze and post-punk.”….a remarkable band making extraordinary music.” – The Big Takeover“This album is extraordinary and defies easycategorization…”
URL:https://thegothcalendar.co.uk/event/massive-ego-dead-lights-larva-the-silent-era-4/
LOCATION:The Lexington\, London\, 96-98 Pentonville Road N1 9JB\, London\, N1 9JB
CATEGORIES:Live Bands,Yorkshire and the Humber
ATTACH;FMTTYPE=image/jpeg:https://thegothcalendar.co.uk/wp-content/uploads/2026/04/658939392_18351157849236866_2408808641638287077_n.jpg
END:VEVENT
END:VCALENDAR