BEGIN:VCALENDAR
VERSION:2.0
PRODID:-//The Goth Calendar - ECPv6.6.0.1//NONSGML v1.0//EN
CALSCALE:GREGORIAN
METHOD:PUBLISH
X-WR-CALNAME:The Goth Calendar
X-ORIGINAL-URL:https://thegothcalendar.co.uk
X-WR-CALDESC:Events for The Goth Calendar
REFRESH-INTERVAL;VALUE=DURATION:PT1H
X-Robots-Tag:noindex
X-PUBLISHED-TTL:PT1H
BEGIN:VTIMEZONE
TZID:Europe/London
BEGIN:DAYLIGHT
TZOFFSETFROM:+0000
TZOFFSETTO:+0100
TZNAME:BST
DTSTART:20260329T010000
END:DAYLIGHT
BEGIN:STANDARD
TZOFFSETFROM:+0100
TZOFFSETTO:+0000
TZNAME:GMT
DTSTART:20261025T010000
END:STANDARD
END:VTIMEZONE
BEGIN:VEVENT
DTSTART;TZID=Europe/London:20260305T193000
DTEND;TZID=Europe/London:20260305T230000
DTSTAMP:20260422T103619
CREATED:20260129T115906Z
LAST-MODIFIED:20260129T115911Z
UID:15057-1772739000-1772751600@thegothcalendar.co.uk
SUMMARY:Sierra Veins + TBC
DESCRIPTION:With violence and melancholy\, gentleness and brutality\, SIERRA VEINS mixes moods and styles to create a singular\, overpowering universe inspired by synthwave\, EBM and darkwave. After the success of her first singles Gone and Unbroken (getting millions of streams in no time)\, the French artist got thrown at the forefront of the scene. She is now considered as one of the best international EBM live act always mixing together the sounds and spirits of Electro\, Synthwave and even Metal. \n\n\n\nShe released her first album A Story of Anger in 2023 including key collaborations with Synthwave Godfather Carpenter Brut\, Kings of collabs Health and Uk based trio Gunship. Following up the release she toured extensively\, selling out venues all over Europe and played at prestigious festivals such as Hellfest\, Les Vieilles Charrues and Roadburn.
URL:https://thegothcalendar.co.uk/event/sierra-veins-tbc/
LOCATION:Bannermans Bar\, Edinburgh\, 212 Cowgate\, Edinburgh\, EH1 1NQ
CATEGORIES:Live Bands,Scotland
ATTACH;FMTTYPE=image/jpeg:https://thegothcalendar.co.uk/wp-content/uploads/2026/01/EWOJCS2.jpg
END:VEVENT
BEGIN:VEVENT
DTSTART;TZID=Europe/London:20260330T190000
DTEND;TZID=Europe/London:20260330T230000
DTSTAMP:20260422T103619
CREATED:20260312T194129Z
LAST-MODIFIED:20260312T194133Z
UID:15698-1774897200-1774911600@thegothcalendar.co.uk
SUMMARY:Psydoll + Metaltech + Arrows Meet
DESCRIPTION:The information will be updated from time to time\, The times are tentative. so please check back often… \n\n\n\nWhat a horror! Such a historical city will be transformed into Tokyo\, for just a little while.Of course\, there are effective bands to stop this. \n\n\n\nMETALTECH – the crazy orange knights from the northern capital.Arrows Meet radiating crazy Scottish electrical waves and competing against each other.It happens to be Monday\, so there’s only one choice….. Come on. \n\n\n\nPSYDOLLhttps://psydoll.bandcamp.com/Tokyo Cyberpunk. A high-octane blend of industrial tracks\, guitar\, and keytar-wielding vocals. Enter a chaotic alternate reality where the sound never stops. \n\n\n\nMETALTECHhttps://metaltech.bandcamp.com/While at the cutting edge of Power Drinking also seem to find the time to write fantastical techno industrial choons! Behold their might and let yourself be absorbed! \n\n\n\nArrows Meethttps://arrowsmeet.bandcamp.com/Hard beats\, funky grooves and engagingly ambiguous narratives by two artists from Perth Australia via Kuala Lumpur and Glasgow who reference sounds from Berlin and Miami. \n\n\n\nTicket: £12.00 (+ £1.50 booking fee)https://tickets-scotland.com//events.html?event_method=viewevent&event_id=d1d018fd-f15b-11f0-b1db-060035c00d11 \n\n\n\nThis is one of the PSYDOLL MUTATE TOUR 2026. For full information\, please see the link below. If you have any of the strange but lovable rock fan friends\, be sure to tell them about this\, as it doesn’t happen very often.https://www.facebook.com/events/2191664121644285
URL:https://thegothcalendar.co.uk/event/psydoll-metaltech-arrows-meet/
LOCATION:Bannermans Bar\, Edinburgh\, 212 Cowgate\, Edinburgh\, EH1 1NQ
CATEGORIES:Live Bands,Scotland
ATTACH;FMTTYPE=image/jpeg:https://thegothcalendar.co.uk/wp-content/uploads/2026/03/615148252_1440428441421631_8915246284613832788_n.jpg
END:VEVENT
BEGIN:VEVENT
DTSTART;TZID=Europe/London:20260331T190000
DTEND;TZID=Europe/London:20260331T223000
DTSTAMP:20260422T103619
CREATED:20260307T213355Z
LAST-MODIFIED:20260307T213400Z
UID:15562-1774983600-1774996200@thegothcalendar.co.uk
SUMMARY:The Awakening + Black Lakes
DESCRIPTION:The Awakening is a dark musical project born in Johannesburg\, South Africa\, in the late ’90s as the creative expression of vocalist\, multi-instrumentalist\, author\, actor and songwriter Ashton Nyte. The Awakening’s sound has morphed and mutated over the years\, incorporating elements of Gothic Rock\, Darkwave\, Gothic Metal\, Industrial Rock\, Post-punk\, Electronic\, New Wave\, Folk Noir and other theatrical meanderings. \n\n\n\nFrontman Ashton Nyte has released 8 solo albums and 2 books in addition to his work as The Awakening. He has contributed vocals and lyrics to several other projects\, featuring members of The Cure\, Peter Murphy\, The Mission\, Beauty In Chaos\, and All About Eve\, among others. \n\n\n\nNyte has written and performed in theatrical productions and hosted philanthropic events\, including his Rock Against Rape concert series and presenting a lecture series at US universities focusing on tolerance and acceptance. He has had songs featured in major television shows like Pretty Little Liars: Original Sin (HBOMax)\, The Purge (USA Network)\, among others. \n\n\n\nMusic journalists have described Nyte as “Johannesburg’s Bowie” for his widely varying musical styles and theatrical performance approach. With a catalogue of over 350 released original songs\, Ashton Nyte and The Awakening have enjoyed airplay and chart success on major independent radio stations worldwide and have toured extensively and headlined music festivals in the USA\, Europe\, and South Africa to upwards of 30\,000 people.
URL:https://thegothcalendar.co.uk/event/the-awakening-black-lakes/
LOCATION:Bannermans Bar\, Edinburgh\, 212 Cowgate\, Edinburgh\, EH1 1NQ
CATEGORIES:Live Bands,Scotland
ATTACH;FMTTYPE=image/jpeg:https://thegothcalendar.co.uk/wp-content/uploads/2026/01/648450339_10163555422801443_1322142597388467248_n.jpg
END:VEVENT
END:VCALENDAR