BEGIN:VCALENDAR
VERSION:2.0
PRODID:-//The Goth Calendar - ECPv6.6.0.1//NONSGML v1.0//EN
CALSCALE:GREGORIAN
METHOD:PUBLISH
X-WR-CALNAME:The Goth Calendar
X-ORIGINAL-URL:https://thegothcalendar.co.uk
X-WR-CALDESC:Events for The Goth Calendar
REFRESH-INTERVAL;VALUE=DURATION:PT1H
X-Robots-Tag:noindex
X-PUBLISHED-TTL:PT1H
BEGIN:VTIMEZONE
TZID:Europe/London
BEGIN:DAYLIGHT
TZOFFSETFROM:+0000
TZOFFSETTO:+0100
TZNAME:BST
DTSTART:20260329T010000
END:DAYLIGHT
BEGIN:STANDARD
TZOFFSETFROM:+0100
TZOFFSETTO:+0000
TZNAME:GMT
DTSTART:20261025T010000
END:STANDARD
END:VTIMEZONE
BEGIN:VEVENT
DTSTART;TZID=Europe/London:20260410T190000
DTEND;TZID=Europe/London:20260410T230000
DTSTAMP:20260420T161007
CREATED:20260206T182402Z
LAST-MODIFIED:20260206T182408Z
UID:15285-1775847600-1775862000@thegothcalendar.co.uk
SUMMARY:IST IST + The Youth Play
DESCRIPTION:Manchester’s IST IST return with their fifth studio album ‘DAGGER’ – the follow-up to 2024’s ‘Light A Bigger Fire’ which charted at number 25 in the UK\, breaking them into the Top 40 for the first time.  \n\n\n\nOnce again collaborating with producer Joseph Cross (Hurts\, Lana Del Rey\, Courteeners) the record finds the band returning to their electronic-infused post-punk roots after making a leap into more mainstream sensibilities last time out.  \n\n\n\nOver their decade as a band so far\, IST IST have forged a formidable reputation on word of mouth excitement\, amassing a dedicated cult following in the process. Operating with a fierce DIY work ethic\, the band have an ever-growing back catalogue of successful studio and live releases. Self-releasing their entire repertoire through their own Kind Violence Records label\, the band’s output has been championed by BBC Radio 1 and BBC 6Music\, Radio X\, XS Manchester\, KINK FM in the Netherlands\, The Times and more.  \n\n\n\nRiding the success of the last record into 2025\, IST IST returned to Europe for further dates and subsequently released two live albums ‘ON FIRE’ and ‘Live in Italy’.  \n\n\n\nThe band head back to Europe again in October for six shows in Italy and the Netherlands\, before playing UK for shows in Leeds\, Glasgow\, London and Birmingham to conclude the year. The band have also just announced a hometown show at the 2\,200 capacity Albert Hall in their home city of Manchester\, which will conclude the ‘DAGGER’ tour.
URL:https://thegothcalendar.co.uk/event/ist-ist-the-youth-play-2/
LOCATION:The Garage\, London\, 20-22 Highbury Corner Highbury\, London\, N5 1RD\, United Kingdom
CATEGORIES:Live Bands,London
ATTACH;FMTTYPE=image/avif:https://thegothcalendar.co.uk/wp-content/uploads/2026/02/ebd52cc1-70f5-4e25-b4f2-c8b5bc50f3fc.avif
END:VEVENT
BEGIN:VEVENT
DTSTART;TZID=Europe/London:20260410T193000
DTEND;TZID=Europe/London:20260410T230000
DTSTAMP:20260420T161007
CREATED:20260330T154656Z
LAST-MODIFIED:20260330T154854Z
UID:15863-1775849400-1775862000@thegothcalendar.co.uk
SUMMARY:Mercy Girl + Velvet Velour
DESCRIPTION:Mercy Girl is sensory euphoria and contemplation. \n\n\n\nFormed in 2024 by members Daisy Miles\, Davey Purdie\, Craig Harkness and Kylie MacNaughton\, the Glasgow based electronic outfit explore themes of love\, despair and the uncertainty of the human experience. Taking inspiration from EBM\, Darkwave and Electro-Pop\, Mercy Girl invokes both the solace of a dark empty highway\, and the surrender of a neon-hazed dancefloor. \n\n\n\nSince launching in November 2024\, the band have amassed a global audience and a cult online following. Having their music regularly played at\, and being used to promote dark scene club nights everywhere from Los Angeles to Berlin. The band sold out their debut headline show in The Hug and Pint in Glasgow and have shared the stage with Justin Warfield (She Wants Revenge) at a sold out Oslo in Hackney\, London. Their latest single ‘No Sound’ was featured as Track of the Week on BBC 6 Music\, alongside strong support from BBC Introducing Scotland with an Artist of the Week full feature.
URL:https://thegothcalendar.co.uk/event/mercy-girl-tbc-4/
LOCATION:The Shacklewell Arms\, London\, 71 Shacklewell Lane\, London\, E8 2EB
CATEGORIES:Live Bands,London
ATTACH;FMTTYPE=image/avif:https://thegothcalendar.co.uk/wp-content/uploads/2026/01/ecbfbbff-a199-4c22-ba0e-7daca08dd158.avif
END:VEVENT
BEGIN:VEVENT
DTSTART;TZID=Europe/London:20260411T000000
DTEND;TZID=Europe/London:20260411T235959
DTSTAMP:20260420T161007
CREATED:20260216T184757Z
LAST-MODIFIED:20260216T184803Z
UID:15442-1775865600-1775951999@thegothcalendar.co.uk
SUMMARY:Byronic Sex & Exile
DESCRIPTION:Byronic Sex & Exile presents the second stage of the ‘Songs From The Blood’ tour. \n\n\n\nBYRONIC SEX & EXILE – ‘SONGS FROM THE BLOOD’ TOUR (PART TWO) \n\n\n\nIn order to complete their Harkeresque sojourn in the footsteps of the Count\, Byronic Sex & Exile presents the second stage of the ‘Songs From The Blood’ tour. \n\n\n\nPart 2 will involve immersive performances in the key locations from ‘Dracula’ – namely\, Whitby\, London\, Purfleet\, Exeter\, and (of course) the Borgo Pass itself. The shows are a mixture of guerilla-style outdoor acoustic performances\, and full electric shows. The tour\, which will see the ‘Songs From The Blood’ album performed in full\, concludes with a show in Whitby as part of The Gothic Gathering weekend. \n\n\n\nThe Exeter show features special guests The Wattingers\, and is followed by a clubnight by Disintegration. Doors are at 7pm. \n\n\n\n‘Songs From The Blood’ Tour (Part 2) \n\n\n\n\nSunday 8th March – Bistritz Borgo Pass*\n\n\n\nFri 10th April – Exeter Cavern (with The Wattingers + Disintegration clubnight)\n\n\n\nSat 11th April – London Highgate Cemetery Gates (Chester Road entrance)*\n\n\n\nSun 12th April – Purfleet Church Hollow Chapel*\n\n\n\nFri 24th April – Whitby Hetty & Betty’s\n\n\n\n\n*afternoon acoustic show
URL:https://thegothcalendar.co.uk/event/byronic-sex-exile-11/
LOCATION:Highgate Cemetery Gates\, Swain's Ln\,\, London\, N6 6PJ
CATEGORIES:Live Bands,London
ATTACH;FMTTYPE=image/jpeg:https://thegothcalendar.co.uk/wp-content/uploads/2026/02/SFTB2.jpg
END:VEVENT
END:VCALENDAR