BEGIN:VCALENDAR
VERSION:2.0
PRODID:-//The Goth Calendar - ECPv6.6.0.1//NONSGML v1.0//EN
CALSCALE:GREGORIAN
METHOD:PUBLISH
X-WR-CALNAME:The Goth Calendar
X-ORIGINAL-URL:https://thegothcalendar.co.uk
X-WR-CALDESC:Events for The Goth Calendar
REFRESH-INTERVAL;VALUE=DURATION:PT1H
X-Robots-Tag:noindex
X-PUBLISHED-TTL:PT1H
BEGIN:VTIMEZONE
TZID:Europe/London
BEGIN:DAYLIGHT
TZOFFSETFROM:+0000
TZOFFSETTO:+0100
TZNAME:BST
DTSTART:20260329T010000
END:DAYLIGHT
BEGIN:STANDARD
TZOFFSETFROM:+0100
TZOFFSETTO:+0000
TZNAME:GMT
DTSTART:20261025T010000
END:STANDARD
END:VTIMEZONE
BEGIN:VEVENT
DTSTART;TZID=Europe/London:20260420T190000
DTEND;TZID=Europe/London:20260420T230000
DTSTAMP:20260420T132820
CREATED:20260330T181751Z
LAST-MODIFIED:20260330T181756Z
UID:15874-1776711600-1776726000@thegothcalendar.co.uk
SUMMARY:Theatre of Hate + TBC
DESCRIPTION:Great chance to see TOH in very small and cool London venue.
URL:https://thegothcalendar.co.uk/event/theatre-of-hate-tbc/
LOCATION:The Lexington\, London\, 96-98 Pentonville Road N1 9JB\, London\, N1 9JB
CATEGORIES:Live Bands,London
ATTACH;FMTTYPE=image/jpeg:https://thegothcalendar.co.uk/wp-content/uploads/2026/03/653082677_1461620342017535_5534196929651008678_n.jpg
END:VEVENT
END:VCALENDAR