BEGIN:VCALENDAR
VERSION:2.0
PRODID:-//The Goth Calendar - ECPv6.6.0.1//NONSGML v1.0//EN
CALSCALE:GREGORIAN
METHOD:PUBLISH
X-WR-CALNAME:The Goth Calendar
X-ORIGINAL-URL:https://thegothcalendar.co.uk
X-WR-CALDESC:Events for The Goth Calendar
REFRESH-INTERVAL;VALUE=DURATION:PT1H
X-Robots-Tag:noindex
X-PUBLISHED-TTL:PT1H
BEGIN:VTIMEZONE
TZID:Europe/London
BEGIN:DAYLIGHT
TZOFFSETFROM:+0000
TZOFFSETTO:+0100
TZNAME:BST
DTSTART:20260329T010000
END:DAYLIGHT
BEGIN:STANDARD
TZOFFSETFROM:+0100
TZOFFSETTO:+0000
TZNAME:GMT
DTSTART:20261025T010000
END:STANDARD
END:VTIMEZONE
BEGIN:VEVENT
DTSTART;TZID=Europe/London:20260904T190000
DTEND;TZID=Europe/London:20260904T230000
DTSTAMP:20260421T092427
CREATED:20260409T183056Z
LAST-MODIFIED:20260409T183100Z
UID:16069-1788548400-1788562800@thegothcalendar.co.uk
SUMMARY:past self + TBC
DESCRIPTION:Night Terrors present past self from Las Vegas\, Nevada. Taking aesthetic cues from visual kei and pulling heavily from bands like The Cure\, Molchat Doma\, and Slowdive\, they blend Korean and English lyrics
URL:https://thegothcalendar.co.uk/event/past-self-tbc/
LOCATION:The Shacklewell Arms\, London\, 71 Shacklewell Lane\, London\, E8 2EB
CATEGORIES:Live Bands,London
ATTACH;FMTTYPE=image/jpeg:https://thegothcalendar.co.uk/wp-content/uploads/2026/04/e6ff9e78-744a-44ea-9c6f-dacb48d2a327-scaled.jpg
END:VEVENT
END:VCALENDAR