BEGIN:VCALENDAR
VERSION:2.0
PRODID:-//The Goth Calendar - ECPv6.6.0.1//NONSGML v1.0//EN
CALSCALE:GREGORIAN
METHOD:PUBLISH
X-WR-CALNAME:The Goth Calendar
X-ORIGINAL-URL:https://thegothcalendar.co.uk
X-WR-CALDESC:Events for The Goth Calendar
REFRESH-INTERVAL;VALUE=DURATION:PT1H
X-Robots-Tag:noindex
X-PUBLISHED-TTL:PT1H
BEGIN:VTIMEZONE
TZID:Europe/London
BEGIN:DAYLIGHT
TZOFFSETFROM:+0000
TZOFFSETTO:+0100
TZNAME:BST
DTSTART:20260329T010000
END:DAYLIGHT
BEGIN:STANDARD
TZOFFSETFROM:+0100
TZOFFSETTO:+0000
TZNAME:GMT
DTSTART:20261025T010000
END:STANDARD
END:VTIMEZONE
BEGIN:VEVENT
DTSTART;TZID=Europe/London:20260503T193000
DTEND;TZID=Europe/London:20260503T230000
DTSTAMP:20260419T200435
CREATED:20260402T204940Z
LAST-MODIFIED:20260402T204944Z
UID:16017-1777836600-1777849200@thegothcalendar.co.uk
SUMMARY:Elkapath + Velocette + Play/Dead
DESCRIPTION:Elkapath at Bristol exchange (basement venue)With Velocette and Play/Dead \n\n\n\n7:30pm doors£8 Adv \n\n\n\nElkapathElkapath are a glorious fusion of synths and heavy riff filled guitars working together in perfect harmonyPrepare to be transported into a realm of mesmerizing gothic synth melodies that will captivate your senses and ignite your imagination.Albums:Black Spiders 2021The Twisted Jester 2024New album coming \n\n\n\nVELOCETTEvelocette are a gothic post punk duo band from Bristol \n\n\n\nPlay/DeadFour piece band with a dynamic stage show. From industrial metal anthems\, synth wave stompers and glam rock floor fillers one thing is for sure – each song delivers emotion\, vitriol and theatrics which are all part of the ongoing semi-autobiographical multi album concept continuing with the bands imminent third release following – 2018s Suicide\, Rock & Rock and 2022s Subliminal Messages/Beneath the Limen \n\n\n\nPlease note the basement is not wheelchair accessible and is accessed by a narrow enclosed staircase. For more accessibility info\, please email access@exchangebristol.com \n\n\n\nDoors open at 7.30pm \n\n\n\nPlay/Dead 7.45pm – 8.30pm \n\n\n\nvelocette 8.45pm – 9.30pm \n\n\n\nElkapath 9.45pm – 10.45pm
URL:https://thegothcalendar.co.uk/event/elkapath-velocette-play-dead/
LOCATION:Exchange\, Bristol\, 72 - 73 Old Market\, Bristol\, BS2 0EJ\, United Kingdom
CATEGORIES:Live Bands,South West
ATTACH;FMTTYPE=image/jpeg:https://thegothcalendar.co.uk/wp-content/uploads/2026/04/621665627_1812662476347043_8873371098846451059_n.jpg
END:VEVENT
BEGIN:VEVENT
DTSTART;TZID=Europe/London:20260509T140000
DTEND;TZID=Europe/London:20260509T233000
DTSTAMP:20260419T200435
CREATED:20250918T194005Z
LAST-MODIFIED:20260402T191559Z
UID:14144-1778335200-1778369400@thegothcalendar.co.uk
SUMMARY:Insurgency: Chaos Bleak + Black Riders Cult + Play/Dead + The Glass House Museum + The Medea Project + The Moons Of Jupiter
DESCRIPTION:REAL Goths uk presents Insurgency bringing you and all day event starting at 2pm till late. At The station in Cannock ( Staffordshire) \nBringing you 6 amazing bands \nChaos Bleak \nPlay/dead \nThe Moons Of Jupiter \nBlack Rain \nThe vaulted skies \nThe medea project \nAnd two Djs . \nhttps://app.promotioncentre.co.uk/events/41341557
URL:https://thegothcalendar.co.uk/event/insurgency-the-vaulted-skies-chaos-bleak-play-dead-black-rain-the-medea-project-the-moons-of-jupiter/
LOCATION:The Station\, Cannock\, Stafford Road\, Cannock Shopping Centre\, Cannock\, WS11 1BF
CATEGORIES:Live Bands,West Midlands
ATTACH;FMTTYPE=image/jpeg:https://thegothcalendar.co.uk/wp-content/uploads/2025/09/RGUKPV1-1040.jpg
END:VEVENT
BEGIN:VEVENT
DTSTART;TZID=Europe/London:20260516T200000
DTEND;TZID=Europe/London:20260516T230000
DTSTAMP:20260419T200435
CREATED:20260415T163151Z
LAST-MODIFIED:20260415T163156Z
UID:16142-1778961600-1778972400@thegothcalendar.co.uk
SUMMARY:Gothbox: Matt Hart + Play/Dead
DESCRIPTION:We’ve managed to lure two more brilliant stage acts to Luton\, England’s most beautiful paradise destination. \n\n\n\nCome see the metronomical mustachioed magnificence of MATT HART and the perfectly powerful performance of PLAY/DEAD as they bring their spectacular flavors of chaos to our stage at The Castle! \n\n\n\nAs ever\, we’ve got DJs to keep the party going once we’ve exhausted what the bands have to offer\, taking us through to the early morning with our usual blend of dark gothy nonsense. \n\n\n\nCome join us\, discover why we love our community so much\, make a few friends\, a few mistakes and a few new stories to drunkenly overshare at house parties. We’ll be waiting
URL:https://thegothcalendar.co.uk/event/gothbox-matt-hart-play-dead/
LOCATION:Castle Tavern\, Luton\, 1 Castle Street\, Luton\, LU1 3AA
CATEGORIES:Clubs,East Midlands,Live Bands
ATTACH;FMTTYPE=image/jpeg:https://thegothcalendar.co.uk/wp-content/uploads/2026/04/659614595_941641168685010_3808197021774211563_n.jpg
END:VEVENT
END:VCALENDAR