BEGIN:VCALENDAR
VERSION:2.0
PRODID:-//The Goth Calendar - ECPv6.6.0.1//NONSGML v1.0//EN
CALSCALE:GREGORIAN
METHOD:PUBLISH
X-ORIGINAL-URL:https://thegothcalendar.co.uk
X-WR-CALDESC:Events for The Goth Calendar
REFRESH-INTERVAL;VALUE=DURATION:PT1H
X-Robots-Tag:noindex
X-PUBLISHED-TTL:PT1H
BEGIN:VTIMEZONE
TZID:Europe/London
BEGIN:DAYLIGHT
TZOFFSETFROM:+0000
TZOFFSETTO:+0100
TZNAME:BST
DTSTART:20260329T010000
END:DAYLIGHT
BEGIN:STANDARD
TZOFFSETFROM:+0100
TZOFFSETTO:+0000
TZNAME:GMT
DTSTART:20261025T010000
END:STANDARD
END:VTIMEZONE
BEGIN:VEVENT
DTSTART;TZID=Europe/London:20260605T193000
DTEND;TZID=Europe/London:20260606T003000
DTSTAMP:20260419T212737
CREATED:20260415T165935Z
LAST-MODIFIED:20260415T165940Z
UID:16160-1780687800-1780705800@thegothcalendar.co.uk
SUMMARY:NecroscopE: Cryogenica + Play/Dead + Grooving In Green
DESCRIPTION:
URL:https://thegothcalendar.co.uk/event/necroscope-cryogenica-play-dead-grooving-in-green/
LOCATION:Arches\, Coventry\, 22-23 Arches Industrial Estate\, Coventry
CATEGORIES:Clubs,East Midlands,Live Bands
END:VEVENT
BEGIN:VEVENT
DTSTART;TZID=Europe/London:20260606T190000
DTEND;TZID=Europe/London:20260606T230000
DTSTAMP:20260419T212737
CREATED:20260126T172152Z
LAST-MODIFIED:20260330T190049Z
UID:14973-1780772400-1780786800@thegothcalendar.co.uk
SUMMARY:Deviant + IAmImperfect + Play/Dead + Hurtsfall
DESCRIPTION:More details tbc
URL:https://thegothcalendar.co.uk/event/deviant-iamimperfect-playdead/
LOCATION:Corporation\, Sheffield\, Milton Street\, Sheffield\, S1 4JU
CATEGORIES:Live Bands,Yorkshire and the Humber
ATTACH;FMTTYPE=image/jpeg:https://thegothcalendar.co.uk/wp-content/uploads/2026/01/634154224_1552478400212139_6268388246695509835_n.jpg
END:VEVENT
END:VCALENDAR