BEGIN:VCALENDAR
VERSION:2.0
PRODID:-//The Goth Calendar - ECPv6.6.0.1//NONSGML v1.0//EN
CALSCALE:GREGORIAN
METHOD:PUBLISH
X-ORIGINAL-URL:https://thegothcalendar.co.uk
X-WR-CALDESC:Events for The Goth Calendar
REFRESH-INTERVAL;VALUE=DURATION:PT1H
X-Robots-Tag:noindex
X-PUBLISHED-TTL:PT1H
BEGIN:VTIMEZONE
TZID:Europe/London
BEGIN:DAYLIGHT
TZOFFSETFROM:+0000
TZOFFSETTO:+0100
TZNAME:BST
DTSTART:20250330T010000
END:DAYLIGHT
BEGIN:STANDARD
TZOFFSETFROM:+0100
TZOFFSETTO:+0000
TZNAME:GMT
DTSTART:20251026T010000
END:STANDARD
END:VTIMEZONE
BEGIN:VEVENT
DTSTART;TZID=Europe/London:20250905T190000
DTEND;TZID=Europe/London:20250906T020000
DTSTAMP:20260420T065730
CREATED:20250724T164839Z
LAST-MODIFIED:20250724T164844Z
UID:13521-1757098800-1757124000@thegothcalendar.co.uk
SUMMARY:NecroscopE: AlterRed + Play/Dead + Fleisch
DESCRIPTION:
URL:https://thegothcalendar.co.uk/event/necroscope-alterred-play-dead-fleisch/
LOCATION:Arches\, Coventry\, 22-23 Arches Industrial Estate\, Coventry
CATEGORIES:Clubs,Live Bands,West Midlands
ATTACH;FMTTYPE=image/jpeg:https://thegothcalendar.co.uk/wp-content/uploads/2025/07/518258825_10237736156119969_7414605956019175416_n.jpg
END:VEVENT
END:VCALENDAR