BEGIN:VCALENDAR
VERSION:2.0
PRODID:-//The Goth Calendar - ECPv6.6.0.1//NONSGML v1.0//EN
CALSCALE:GREGORIAN
METHOD:PUBLISH
X-ORIGINAL-URL:https://thegothcalendar.co.uk
X-WR-CALDESC:Events for The Goth Calendar
REFRESH-INTERVAL;VALUE=DURATION:PT1H
X-Robots-Tag:noindex
X-PUBLISHED-TTL:PT1H
BEGIN:VTIMEZONE
TZID:Europe/London
BEGIN:DAYLIGHT
TZOFFSETFROM:+0000
TZOFFSETTO:+0100
TZNAME:BST
DTSTART:20260329T010000
END:DAYLIGHT
BEGIN:STANDARD
TZOFFSETFROM:+0100
TZOFFSETTO:+0000
TZNAME:GMT
DTSTART:20261025T010000
END:STANDARD
END:VTIMEZONE
BEGIN:VEVENT
DTSTART;TZID=Europe/London:20260815T140000
DTEND;TZID=Europe/London:20260816T020000
DTSTAMP:20260423T074051
CREATED:20260421T105259Z
LAST-MODIFIED:20260421T105315Z
UID:16199-1786802400-1786845600@thegothcalendar.co.uk
SUMMARY:Frogfest Liverpool 2026
DESCRIPTION:Mouth Ulcers | Mercy Girl | Cosey Mueller | SDH | Pol | Liminal Project and more\n\nFrogfest is Liverpool’s only dedicated darkwave\, goth\, EBM\, coldwave and post-punk festival — a full-day celebration of underground alternative music bringing together bands from across Europe and the UK at District and Lost Art in Liverpool’s Baltic Triangle.\n\nNow in its 7th year and expanding to two stages\, Frogfest remains deliberately intimate. At 350 capacity\, the barrier between band and audience disappears. It’s part gig\, part club night\, part underground party\, and entirely unlike anything else on the UK alternative music calendar.
URL:https://thegothcalendar.co.uk/event/frogfest-liverpool-2026/
LOCATION:District Liverpool\, 61 Jordan St\, Liverpool\, L1 0BE
CATEGORIES:Festivals,North West
ATTACH;FMTTYPE=image/jpeg:https://thegothcalendar.co.uk/wp-content/uploads/2026/04/skiddle-flyer.jpg
ORGANIZER;CN="Moonfrog + Sound Night Out":MAILTO:john.king@livemusicpix.co.uk
END:VEVENT
END:VCALENDAR