BEGIN:VCALENDAR
VERSION:2.0
PRODID:-//The Goth Calendar - ECPv6.6.0.1//NONSGML v1.0//EN
CALSCALE:GREGORIAN
METHOD:PUBLISH
X-ORIGINAL-URL:https://thegothcalendar.co.uk
X-WR-CALDESC:Events for The Goth Calendar
REFRESH-INTERVAL;VALUE=DURATION:PT1H
X-Robots-Tag:noindex
X-PUBLISHED-TTL:PT1H
BEGIN:VTIMEZONE
TZID:Europe/London
BEGIN:DAYLIGHT
TZOFFSETFROM:+0000
TZOFFSETTO:+0100
TZNAME:BST
DTSTART:20260329T010000
END:DAYLIGHT
BEGIN:STANDARD
TZOFFSETFROM:+0100
TZOFFSETTO:+0000
TZNAME:GMT
DTSTART:20261025T010000
END:STANDARD
END:VTIMEZONE
BEGIN:VEVENT
DTSTART;TZID=Europe/London:20260509T190000
DTEND;TZID=Europe/London:20260509T230000
DTSTAMP:20260422T004151
CREATED:20260207T221325Z
LAST-MODIFIED:20260402T191628Z
UID:15379-1778353200-1778367600@thegothcalendar.co.uk
SUMMARY:Skeletal Family + Salvation + Courtesan
DESCRIPTION:Those who enjoy Whitby Goth Festival will no doubt know this band – Skeletal Family have headlined twice since reforming in 2002! And after a successful tour with Salvation last year\, we thought why not add a bonus show for Derby! So dust off those New Rocks for some old rock as we bring you an unforgettable night of live music. \n\n\n\nDoors at 7\, show starts 7:30 \n\n\n\n£16 ADV or £20 OTD \n\n\n\nNearby NCP parking available \n\n\n\nSkeletal Family – Spotify – Instagram – Facebook \n\n\n\nSalvation – Spotify – Instagram – Facebook
URL:https://thegothcalendar.co.uk/event/skeletal-family-salvation-2/
LOCATION:The Bluenote\, Derby\, 14A\, Sadler Gate\, Derby\, DE1 3NF
CATEGORIES:East Midlands,Live Bands
ATTACH;FMTTYPE=image/avif:https://thegothcalendar.co.uk/wp-content/uploads/2026/02/23b9dc_fb02e794031941478f658b588b1546eamv2.avif
END:VEVENT
BEGIN:VEVENT
DTSTART;TZID=Europe/London:20260516T190000
DTEND;TZID=Europe/London:20260516T230000
DTSTAMP:20260422T004151
CREATED:20260330T183337Z
LAST-MODIFIED:20260330T183342Z
UID:15893-1778958000-1778972400@thegothcalendar.co.uk
SUMMARY:Spear Of Destiny + Skeletal Family + Cheeks
DESCRIPTION:A Celebration of the music of Kirk Brandon\, Spear of Destiny\, Theatre of Hate & The Pack
URL:https://thegothcalendar.co.uk/event/spear-of-destiny-skeletal-family-cheeks/
LOCATION:KK’s Steel Mill\, Wolverhampton\, Starworks Warehouse\, Frederick Street\, Wolverhampton\, WV2 4DU
CATEGORIES:Festivals,Live Bands,West Midlands
ATTACH;FMTTYPE=image/jpeg:https://thegothcalendar.co.uk/wp-content/uploads/2026/03/event-westworld-weekend-xxii-poster.jpg
END:VEVENT
BEGIN:VEVENT
DTSTART;TZID=Europe/London:20260710T160000
DTEND;TZID=Europe/London:20260712T030000
DTSTAMP:20260422T004151
CREATED:20250718T123352Z
LAST-MODIFIED:20260216T183905Z
UID:13429-1783699200-1783825200@thegothcalendar.co.uk
SUMMARY:Deadinburgh Festival: John McKay's Reactor + Ausgang + Skeletal Family + Inkubus Sukkubus + Ghost Dance + Balaam and the Angel + The Rose Of Avalanche + Salvation + Screaming Dead + 13th Chime + Chaos Bleak + Voodoo Twins + Post Ironic State
DESCRIPTION:The Deadinburgh Festival is a 2 day goth festival\, taking place at La Belle Angele in Edinburgh’s historic Old Town. \n\n\n\nFeaturing 14 of some of the best goth bands around\, the festival is heading into it’s second year and into a new bigger home!
URL:https://thegothcalendar.co.uk/event/deadinburgh-festival-ausgang-inkubus-sukkubus-ghost-dance-the-rose-of-avalanche-screaming-dead-chaos-bleak-post-ironic-state/
LOCATION:La Belle Angele\, Edinburgh\, 11 Hastie's Cl\, Edinburgh\, EH1 1HJ
CATEGORIES:Festivals,Live Bands,Scotland
ATTACH;FMTTYPE=image/avif:https://thegothcalendar.co.uk/wp-content/uploads/2025/07/deadinburgh_flyer_web-p4POgjZlg7ycfNgG.avif
END:VEVENT
END:VCALENDAR