BEGIN:VCALENDAR
VERSION:2.0
PRODID:-//The Goth Calendar - ECPv6.6.0.1//NONSGML v1.0//EN
CALSCALE:GREGORIAN
METHOD:PUBLISH
X-ORIGINAL-URL:https://thegothcalendar.co.uk
X-WR-CALDESC:Events for The Goth Calendar
REFRESH-INTERVAL;VALUE=DURATION:PT1H
X-Robots-Tag:noindex
X-PUBLISHED-TTL:PT1H
BEGIN:VTIMEZONE
TZID:Europe/London
BEGIN:DAYLIGHT
TZOFFSETFROM:+0000
TZOFFSETTO:+0100
TZNAME:BST
DTSTART:20260329T010000
END:DAYLIGHT
BEGIN:STANDARD
TZOFFSETFROM:+0100
TZOFFSETTO:+0000
TZNAME:GMT
DTSTART:20261025T010000
END:STANDARD
END:VTIMEZONE
BEGIN:VEVENT
DTSTART;TZID=Europe/London:20260703T193000
DTEND;TZID=Europe/London:20260704T003000
DTSTAMP:20260423T184646
CREATED:20260415T170106Z
LAST-MODIFIED:20260415T170110Z
UID:16162-1783107000-1783125000@thegothcalendar.co.uk
SUMMARY:NecroscopE: Vazum + The InSect + The Ghost Of Lemora + Sounds Like Winter
DESCRIPTION:
URL:https://thegothcalendar.co.uk/event/necroscope-vazum-the-insect-the-ghost-of-lemora-sounds-like-winter/
LOCATION:Arches\, Coventry\, 22-23 Arches Industrial Estate\, Coventry
CATEGORIES:Clubs,East Midlands,Live Bands
END:VEVENT
END:VCALENDAR