BEGIN:VCALENDAR
VERSION:2.0
PRODID:-//The Goth Calendar - ECPv6.6.0.1//NONSGML v1.0//EN
CALSCALE:GREGORIAN
METHOD:PUBLISH
X-ORIGINAL-URL:https://thegothcalendar.co.uk
X-WR-CALDESC:Events for The Goth Calendar
REFRESH-INTERVAL;VALUE=DURATION:PT1H
X-Robots-Tag:noindex
X-PUBLISHED-TTL:PT1H
BEGIN:VTIMEZONE
TZID:Europe/London
BEGIN:DAYLIGHT
TZOFFSETFROM:+0000
TZOFFSETTO:+0100
TZNAME:BST
DTSTART:20260329T010000
END:DAYLIGHT
BEGIN:STANDARD
TZOFFSETFROM:+0100
TZOFFSETTO:+0000
TZNAME:GMT
DTSTART:20261025T010000
END:STANDARD
END:VTIMEZONE
BEGIN:VEVENT
DTSTART;TZID=Europe/London:20260702T190000
DTEND;TZID=Europe/London:20260702T230000
DTSTAMP:20260423T154316
CREATED:20260422T162021Z
LAST-MODIFIED:20260422T162025Z
UID:16219-1783018800-1783033200@thegothcalendar.co.uk
SUMMARY:Vazum + Velocette + The New Dark Age
DESCRIPTION:VAZUMwith support from Velocette and The New Dark Age  \n\n\n\n£10 Adv7pm doors
URL:https://thegothcalendar.co.uk/event/vazum-velocette-the-new-dark-age/
LOCATION:Exchange\, Bristol\, 72 - 73 Old Market\, Bristol\, BS2 0EJ\, United Kingdom
CATEGORIES:Clubs,South West
ATTACH;FMTTYPE=image/jpeg:https://thegothcalendar.co.uk/wp-content/uploads/2026/04/672683106_1251808690270312_7659481102557607364_n.jpg
END:VEVENT
END:VCALENDAR